BEGIN:VCALENDAR
VERSION:2.0
PRODID:-//Let&#039;s Learn - ECPv6.15.14//NONSGML v1.0//EN
CALSCALE:GREGORIAN
METHOD:PUBLISH
X-ORIGINAL-URL:https://letslearn.nz
X-WR-CALDESC:Events for Let&#039;s Learn
REFRESH-INTERVAL;VALUE=DURATION:PT1H
X-Robots-Tag:noindex
X-PUBLISHED-TTL:PT1H
BEGIN:VTIMEZONE
TZID:Pacific/Auckland
BEGIN:STANDARD
TZOFFSETFROM:+1300
TZOFFSETTO:+1200
TZNAME:NZST
DTSTART:20220402T140000
END:STANDARD
BEGIN:DAYLIGHT
TZOFFSETFROM:+1200
TZOFFSETTO:+1300
TZNAME:NZDT
DTSTART:20220924T140000
END:DAYLIGHT
BEGIN:STANDARD
TZOFFSETFROM:+1300
TZOFFSETTO:+1200
TZNAME:NZST
DTSTART:20230401T140000
END:STANDARD
BEGIN:DAYLIGHT
TZOFFSETFROM:+1200
TZOFFSETTO:+1300
TZNAME:NZDT
DTSTART:20230923T140000
END:DAYLIGHT
BEGIN:STANDARD
TZOFFSETFROM:+1300
TZOFFSETTO:+1200
TZNAME:NZST
DTSTART:20240406T140000
END:STANDARD
BEGIN:DAYLIGHT
TZOFFSETFROM:+1200
TZOFFSETTO:+1300
TZNAME:NZDT
DTSTART:20240928T140000
END:DAYLIGHT
END:VTIMEZONE
BEGIN:VEVENT
DTSTART;TZID=Pacific/Auckland:20230807T180000
DTEND;TZID=Pacific/Auckland:20230807T200000
DTSTAMP:20260423T122902
CREATED:20230714T204115Z
LAST-MODIFIED:20230714T204307Z
UID:10010011-1691431200-1691438400@letslearn.nz
SUMMARY:ChatGPT\, Weka & Waikato Uni AI Institute - Public Lecture Series
DESCRIPTION:Embark on an enthralling journey through the world of artificial intelligence\, featuring the groundbreaking work of ChatGPT\, Weka and the University of Waikato ArtificiaI Intelligence Institute. This talk will showcase the innovative contributions of these AI powerhouses in shaping the future of technology and improving lives worldwide. Be captivated as we explore their cutting-edge advancements and learn how these trailblazers are redefining the AI landscape. \nProfessor Albert Bifet previously worked at Huawei Noah’s Ark Lab in Hong Kong\, Yahoo Labs in Barcelona\, and UPC BarcelonaTech. He is the co-author of a book on Machine Learning from Data Streams published at MIT Press. He is one of the leaders of MOA\, scikit-multiflow and Apache SAMOA software environments for implementing algorithms and running experiments for online learning from evolving data streams. He served as Co-Chair of the Industrial track of IEEE MDM (2016)\, ECML PKDD (2015)\, KDD BigMine (2012-2019)\, and ACM SAC Data Streams Track (2012-2021). \nWhen: Monday 7th August 2023. Doors open 5.30pm. Lecture starts 6.00pm. \nWhere: The University of Waikato\, Tauranga\, Durham St\, Tauranga\nParking: The Spring St parking building is open 24 hours. \nThe Tauranga Public Lecture Series is a free community event and open to the public to attend.  Registration is essential.  PLEASE REGISTER YOUR ATTENDANCE HERE and present your eticket at the door.
URL:https://letslearn.nz/event/chatgpt-weka-waikato-uni-ai-institute-public-lecture-series/
LOCATION:University of Waikato – Tauranga Campus 101 Durham Street Tauranga
CATEGORIES:Talks,Technology
ATTACH;FMTTYPE=image/jpeg:https://letslearn.nz/wp-content/uploads/2023/07/Talk-Chat-GPT.jpg
END:VEVENT
END:VCALENDAR