BEGIN:VCALENDAR
VERSION:2.0
PRODID:-//Let&#039;s Learn - ECPv6.15.14//NONSGML v1.0//EN
CALSCALE:GREGORIAN
METHOD:PUBLISH
X-WR-CALNAME:Let&#039;s Learn
X-ORIGINAL-URL:https://letslearn.nz
X-WR-CALDESC:Events for Let&#039;s Learn
REFRESH-INTERVAL;VALUE=DURATION:PT1H
X-Robots-Tag:noindex
X-PUBLISHED-TTL:PT1H
BEGIN:VTIMEZONE
TZID:Pacific/Auckland
BEGIN:STANDARD
TZOFFSETFROM:+1300
TZOFFSETTO:+1200
TZNAME:NZST
DTSTART:20190406T140000
END:STANDARD
BEGIN:DAYLIGHT
TZOFFSETFROM:+1200
TZOFFSETTO:+1300
TZNAME:NZDT
DTSTART:20190928T140000
END:DAYLIGHT
BEGIN:STANDARD
TZOFFSETFROM:+1300
TZOFFSETTO:+1200
TZNAME:NZST
DTSTART:20200404T140000
END:STANDARD
BEGIN:DAYLIGHT
TZOFFSETFROM:+1200
TZOFFSETTO:+1300
TZNAME:NZDT
DTSTART:20200926T140000
END:DAYLIGHT
BEGIN:STANDARD
TZOFFSETFROM:+1300
TZOFFSETTO:+1200
TZNAME:NZST
DTSTART:20210403T140000
END:STANDARD
BEGIN:DAYLIGHT
TZOFFSETFROM:+1200
TZOFFSETTO:+1300
TZNAME:NZDT
DTSTART:20210925T140000
END:DAYLIGHT
BEGIN:STANDARD
TZOFFSETFROM:+1300
TZOFFSETTO:+1200
TZNAME:NZST
DTSTART:20220402T140000
END:STANDARD
BEGIN:DAYLIGHT
TZOFFSETFROM:+1200
TZOFFSETTO:+1300
TZNAME:NZDT
DTSTART:20220924T140000
END:DAYLIGHT
END:VTIMEZONE
BEGIN:VEVENT
DTSTART;TZID=Pacific/Auckland:20211217T100000
DTEND;TZID=Pacific/Auckland:20211217T120000
DTSTAMP:20260421T103239
CREATED:20221217T012210Z
LAST-MODIFIED:20221217T012210Z
UID:10004819-1639735200-1639742400@letslearn.nz
SUMMARY:Learn to Play Bridge in Te Puke
DESCRIPTION:The Te Puke Bridge Club is offering lessons beginning in May. \nLearn to play this incredibly stimulating game ! \nWeekly sessions for 10 weeks –\n–  Thursdays 7.30 – 9.30pm beginning May 6th|\n–  Fridays 10.00 – noon beginning May 7th \nComputerised dealing & scoring in use.\nFees of $49 will include membership for 2021.\nContact:\nMargaret (07) 929 6509 / 022 300 3688\nOr Mike 021 388 394
URL:https://letslearn.nz/event/learn-to-play-bridge-in-te-puke/2021-12-17/
LOCATION:Te Puke Bridge Club\, 4 Queen Street\, Te Puke
CATEGORIES:Bridge
ATTACH;FMTTYPE=image/jpeg:https://letslearn.nz/wp-content/uploads/2021/04/Clubs-Card-Games-Te-Puke-Bridge.jpg
ORGANIZER;CN="Te Puke Bridge Club":MAILTO:tepukebridgeclub@xtra.co.nz
END:VEVENT
BEGIN:VEVENT
DTSTART;TZID=Pacific/Auckland:20211216T193000
DTEND;TZID=Pacific/Auckland:20211216T210000
DTSTAMP:20260421T103239
CREATED:20210331T125013Z
LAST-MODIFIED:20211104T014321Z
UID:10004812-1639683000-1639688400@letslearn.nz
SUMMARY:Learn to Play Bridge in Te Puke
DESCRIPTION:The Te Puke Bridge Club is offering lessons beginning in May. \nLearn to play this incredibly stimulating game ! \nWeekly sessions for 10 weeks –\n–  Thursdays 7.30 – 9.30pm beginning May 6th|\n–  Fridays 10.00 – noon beginning May 7th \nComputerised dealing & scoring in use.\nFees of $49 will include membership for 2021.\nContact:\nMargaret (07) 929 6509 / 022 300 3688\nOr Mike 021 388 394
URL:https://letslearn.nz/event/learn-to-play-bridge-in-te-puke/2021-12-16/
LOCATION:Te Puke Bridge Club\, 4 Queen Street\, Te Puke
CATEGORIES:Bridge
ATTACH;FMTTYPE=image/jpeg:https://letslearn.nz/wp-content/uploads/2021/04/Clubs-Card-Games-Te-Puke-Bridge.jpg
ORGANIZER;CN="Te Puke Bridge Club":MAILTO:tepukebridgeclub@xtra.co.nz
END:VEVENT
BEGIN:VEVENT
DTSTART;TZID=Pacific/Auckland:20211213T130000
DTEND;TZID=Pacific/Auckland:20211214T220000
DTSTAMP:20260421T103239
CREATED:20200613T034638Z
LAST-MODIFIED:20211031T102440Z
UID:10004372-1639400400-1639519200@letslearn.nz
SUMMARY:Bridge in Te Puke
DESCRIPTION:Are you already a bridge player ?  Would you like to learn ?\nCome along and meet us. \nClub days are held three days per week and include singles\, paired and team events over the course of the February to November year. \nSessions are:\nMonday afternoons 1pm- 4pm\nTuesday evenings 7pm -10pm\nFriday afternoons 1pm-4pm followed by light refreshments. \nBridge Lessons are held regularly. \nFor further details\, please visit our website or email tepukebridgeclub@gmail.com .\nClub officers in 2020 are:\nPresident:        June Day\nSecretary:        Bev Nairn\nTreasurer:       Margaret McDonald
URL:https://letslearn.nz/event/bridge-in-te-puke-2/2021-12-13/
LOCATION:Te Puke Bridge Club\, 4 Queen Street\, Te Puke
CATEGORIES:Bridge
ATTACH;FMTTYPE=image/jpeg:https://letslearn.nz/wp-content/uploads/2019/09/Clubs-Bridge-Te-Puke-1.jpg
ORGANIZER;CN="Te Puke Bridge Club":MAILTO:tepukebridgeclub@xtra.co.nz
END:VEVENT
BEGIN:VEVENT
DTSTART;TZID=Pacific/Auckland:20211210T100000
DTEND;TZID=Pacific/Auckland:20211210T120000
DTSTAMP:20260421T103239
CREATED:20221217T012210Z
LAST-MODIFIED:20221217T012210Z
UID:10004818-1639130400-1639137600@letslearn.nz
SUMMARY:Learn to Play Bridge in Te Puke
DESCRIPTION:The Te Puke Bridge Club is offering lessons beginning in May. \nLearn to play this incredibly stimulating game ! \nWeekly sessions for 10 weeks –\n–  Thursdays 7.30 – 9.30pm beginning May 6th|\n–  Fridays 10.00 – noon beginning May 7th \nComputerised dealing & scoring in use.\nFees of $49 will include membership for 2021.\nContact:\nMargaret (07) 929 6509 / 022 300 3688\nOr Mike 021 388 394
URL:https://letslearn.nz/event/learn-to-play-bridge-in-te-puke/2021-12-10/
LOCATION:Te Puke Bridge Club\, 4 Queen Street\, Te Puke
CATEGORIES:Bridge
ATTACH;FMTTYPE=image/jpeg:https://letslearn.nz/wp-content/uploads/2021/04/Clubs-Card-Games-Te-Puke-Bridge.jpg
ORGANIZER;CN="Te Puke Bridge Club":MAILTO:tepukebridgeclub@xtra.co.nz
END:VEVENT
BEGIN:VEVENT
DTSTART;TZID=Pacific/Auckland:20211209T193000
DTEND;TZID=Pacific/Auckland:20211209T210000
DTSTAMP:20260421T103239
CREATED:20210331T125013Z
LAST-MODIFIED:20211104T014321Z
UID:10004811-1639078200-1639083600@letslearn.nz
SUMMARY:Learn to Play Bridge in Te Puke
DESCRIPTION:The Te Puke Bridge Club is offering lessons beginning in May. \nLearn to play this incredibly stimulating game ! \nWeekly sessions for 10 weeks –\n–  Thursdays 7.30 – 9.30pm beginning May 6th|\n–  Fridays 10.00 – noon beginning May 7th \nComputerised dealing & scoring in use.\nFees of $49 will include membership for 2021.\nContact:\nMargaret (07) 929 6509 / 022 300 3688\nOr Mike 021 388 394
URL:https://letslearn.nz/event/learn-to-play-bridge-in-te-puke/2021-12-09/
LOCATION:Te Puke Bridge Club\, 4 Queen Street\, Te Puke
CATEGORIES:Bridge
ATTACH;FMTTYPE=image/jpeg:https://letslearn.nz/wp-content/uploads/2021/04/Clubs-Card-Games-Te-Puke-Bridge.jpg
ORGANIZER;CN="Te Puke Bridge Club":MAILTO:tepukebridgeclub@xtra.co.nz
END:VEVENT
BEGIN:VEVENT
DTSTART;TZID=Pacific/Auckland:20211206T130000
DTEND;TZID=Pacific/Auckland:20211207T220000
DTSTAMP:20260421T103239
CREATED:20200613T034638Z
LAST-MODIFIED:20211031T102440Z
UID:10004371-1638795600-1638914400@letslearn.nz
SUMMARY:Bridge in Te Puke
DESCRIPTION:Are you already a bridge player ?  Would you like to learn ?\nCome along and meet us. \nClub days are held three days per week and include singles\, paired and team events over the course of the February to November year. \nSessions are:\nMonday afternoons 1pm- 4pm\nTuesday evenings 7pm -10pm\nFriday afternoons 1pm-4pm followed by light refreshments. \nBridge Lessons are held regularly. \nFor further details\, please visit our website or email tepukebridgeclub@gmail.com .\nClub officers in 2020 are:\nPresident:        June Day\nSecretary:        Bev Nairn\nTreasurer:       Margaret McDonald
URL:https://letslearn.nz/event/bridge-in-te-puke-2/2021-12-06/
LOCATION:Te Puke Bridge Club\, 4 Queen Street\, Te Puke
CATEGORIES:Bridge
ATTACH;FMTTYPE=image/jpeg:https://letslearn.nz/wp-content/uploads/2019/09/Clubs-Bridge-Te-Puke-1.jpg
ORGANIZER;CN="Te Puke Bridge Club":MAILTO:tepukebridgeclub@xtra.co.nz
END:VEVENT
BEGIN:VEVENT
DTSTART;TZID=Pacific/Auckland:20211203T100000
DTEND;TZID=Pacific/Auckland:20211203T120000
DTSTAMP:20260421T103239
CREATED:20221217T012210Z
LAST-MODIFIED:20221217T012210Z
UID:10004817-1638525600-1638532800@letslearn.nz
SUMMARY:Learn to Play Bridge in Te Puke
DESCRIPTION:The Te Puke Bridge Club is offering lessons beginning in May. \nLearn to play this incredibly stimulating game ! \nWeekly sessions for 10 weeks –\n–  Thursdays 7.30 – 9.30pm beginning May 6th|\n–  Fridays 10.00 – noon beginning May 7th \nComputerised dealing & scoring in use.\nFees of $49 will include membership for 2021.\nContact:\nMargaret (07) 929 6509 / 022 300 3688\nOr Mike 021 388 394
URL:https://letslearn.nz/event/learn-to-play-bridge-in-te-puke/2021-12-03/
LOCATION:Te Puke Bridge Club\, 4 Queen Street\, Te Puke
CATEGORIES:Bridge
ATTACH;FMTTYPE=image/jpeg:https://letslearn.nz/wp-content/uploads/2021/04/Clubs-Card-Games-Te-Puke-Bridge.jpg
ORGANIZER;CN="Te Puke Bridge Club":MAILTO:tepukebridgeclub@xtra.co.nz
END:VEVENT
BEGIN:VEVENT
DTSTART;TZID=Pacific/Auckland:20211202T193000
DTEND;TZID=Pacific/Auckland:20211202T210000
DTSTAMP:20260421T103239
CREATED:20210331T125013Z
LAST-MODIFIED:20211104T014321Z
UID:10004810-1638473400-1638478800@letslearn.nz
SUMMARY:Learn to Play Bridge in Te Puke
DESCRIPTION:The Te Puke Bridge Club is offering lessons beginning in May. \nLearn to play this incredibly stimulating game ! \nWeekly sessions for 10 weeks –\n–  Thursdays 7.30 – 9.30pm beginning May 6th|\n–  Fridays 10.00 – noon beginning May 7th \nComputerised dealing & scoring in use.\nFees of $49 will include membership for 2021.\nContact:\nMargaret (07) 929 6509 / 022 300 3688\nOr Mike 021 388 394
URL:https://letslearn.nz/event/learn-to-play-bridge-in-te-puke/2021-12-02/
LOCATION:Te Puke Bridge Club\, 4 Queen Street\, Te Puke
CATEGORIES:Bridge
ATTACH;FMTTYPE=image/jpeg:https://letslearn.nz/wp-content/uploads/2021/04/Clubs-Card-Games-Te-Puke-Bridge.jpg
ORGANIZER;CN="Te Puke Bridge Club":MAILTO:tepukebridgeclub@xtra.co.nz
END:VEVENT
BEGIN:VEVENT
DTSTART;TZID=Pacific/Auckland:20211129T130000
DTEND;TZID=Pacific/Auckland:20211130T220000
DTSTAMP:20260421T103239
CREATED:20200613T034638Z
LAST-MODIFIED:20211031T102440Z
UID:10004370-1638190800-1638309600@letslearn.nz
SUMMARY:Bridge in Te Puke
DESCRIPTION:Are you already a bridge player ?  Would you like to learn ?\nCome along and meet us. \nClub days are held three days per week and include singles\, paired and team events over the course of the February to November year. \nSessions are:\nMonday afternoons 1pm- 4pm\nTuesday evenings 7pm -10pm\nFriday afternoons 1pm-4pm followed by light refreshments. \nBridge Lessons are held regularly. \nFor further details\, please visit our website or email tepukebridgeclub@gmail.com .\nClub officers in 2020 are:\nPresident:        June Day\nSecretary:        Bev Nairn\nTreasurer:       Margaret McDonald
URL:https://letslearn.nz/event/bridge-in-te-puke-2/2021-11-29/
LOCATION:Te Puke Bridge Club\, 4 Queen Street\, Te Puke
CATEGORIES:Bridge
ATTACH;FMTTYPE=image/jpeg:https://letslearn.nz/wp-content/uploads/2019/09/Clubs-Bridge-Te-Puke-1.jpg
ORGANIZER;CN="Te Puke Bridge Club":MAILTO:tepukebridgeclub@xtra.co.nz
END:VEVENT
BEGIN:VEVENT
DTSTART;TZID=Pacific/Auckland:20211126T100000
DTEND;TZID=Pacific/Auckland:20211126T120000
DTSTAMP:20260421T103239
CREATED:20221217T012210Z
LAST-MODIFIED:20221217T012210Z
UID:10004816-1637920800-1637928000@letslearn.nz
SUMMARY:Learn to Play Bridge in Te Puke
DESCRIPTION:The Te Puke Bridge Club is offering lessons beginning in May. \nLearn to play this incredibly stimulating game ! \nWeekly sessions for 10 weeks –\n–  Thursdays 7.30 – 9.30pm beginning May 6th|\n–  Fridays 10.00 – noon beginning May 7th \nComputerised dealing & scoring in use.\nFees of $49 will include membership for 2021.\nContact:\nMargaret (07) 929 6509 / 022 300 3688\nOr Mike 021 388 394
URL:https://letslearn.nz/event/learn-to-play-bridge-in-te-puke/2021-11-26/
LOCATION:Te Puke Bridge Club\, 4 Queen Street\, Te Puke
CATEGORIES:Bridge
ATTACH;FMTTYPE=image/jpeg:https://letslearn.nz/wp-content/uploads/2021/04/Clubs-Card-Games-Te-Puke-Bridge.jpg
ORGANIZER;CN="Te Puke Bridge Club":MAILTO:tepukebridgeclub@xtra.co.nz
END:VEVENT
BEGIN:VEVENT
DTSTART;TZID=Pacific/Auckland:20211125T193000
DTEND;TZID=Pacific/Auckland:20211125T210000
DTSTAMP:20260421T103239
CREATED:20210331T125013Z
LAST-MODIFIED:20211104T014321Z
UID:10004809-1637868600-1637874000@letslearn.nz
SUMMARY:Learn to Play Bridge in Te Puke
DESCRIPTION:The Te Puke Bridge Club is offering lessons beginning in May. \nLearn to play this incredibly stimulating game ! \nWeekly sessions for 10 weeks –\n–  Thursdays 7.30 – 9.30pm beginning May 6th|\n–  Fridays 10.00 – noon beginning May 7th \nComputerised dealing & scoring in use.\nFees of $49 will include membership for 2021.\nContact:\nMargaret (07) 929 6509 / 022 300 3688\nOr Mike 021 388 394
URL:https://letslearn.nz/event/learn-to-play-bridge-in-te-puke/2021-11-25/
LOCATION:Te Puke Bridge Club\, 4 Queen Street\, Te Puke
CATEGORIES:Bridge
ATTACH;FMTTYPE=image/jpeg:https://letslearn.nz/wp-content/uploads/2021/04/Clubs-Card-Games-Te-Puke-Bridge.jpg
ORGANIZER;CN="Te Puke Bridge Club":MAILTO:tepukebridgeclub@xtra.co.nz
END:VEVENT
BEGIN:VEVENT
DTSTART;TZID=Pacific/Auckland:20211122T130000
DTEND;TZID=Pacific/Auckland:20211123T220000
DTSTAMP:20260421T103239
CREATED:20200613T034638Z
LAST-MODIFIED:20211031T102440Z
UID:10004369-1637586000-1637704800@letslearn.nz
SUMMARY:Bridge in Te Puke
DESCRIPTION:Are you already a bridge player ?  Would you like to learn ?\nCome along and meet us. \nClub days are held three days per week and include singles\, paired and team events over the course of the February to November year. \nSessions are:\nMonday afternoons 1pm- 4pm\nTuesday evenings 7pm -10pm\nFriday afternoons 1pm-4pm followed by light refreshments. \nBridge Lessons are held regularly. \nFor further details\, please visit our website or email tepukebridgeclub@gmail.com .\nClub officers in 2020 are:\nPresident:        June Day\nSecretary:        Bev Nairn\nTreasurer:       Margaret McDonald
URL:https://letslearn.nz/event/bridge-in-te-puke-2/2021-11-22/
LOCATION:Te Puke Bridge Club\, 4 Queen Street\, Te Puke
CATEGORIES:Bridge
ATTACH;FMTTYPE=image/jpeg:https://letslearn.nz/wp-content/uploads/2019/09/Clubs-Bridge-Te-Puke-1.jpg
ORGANIZER;CN="Te Puke Bridge Club":MAILTO:tepukebridgeclub@xtra.co.nz
END:VEVENT
BEGIN:VEVENT
DTSTART;TZID=Pacific/Auckland:20211119T100000
DTEND;TZID=Pacific/Auckland:20211119T120000
DTSTAMP:20260421T103239
CREATED:20221217T012210Z
LAST-MODIFIED:20221217T012210Z
UID:10004815-1637316000-1637323200@letslearn.nz
SUMMARY:Learn to Play Bridge in Te Puke
DESCRIPTION:The Te Puke Bridge Club is offering lessons beginning in May. \nLearn to play this incredibly stimulating game ! \nWeekly sessions for 10 weeks –\n–  Thursdays 7.30 – 9.30pm beginning May 6th|\n–  Fridays 10.00 – noon beginning May 7th \nComputerised dealing & scoring in use.\nFees of $49 will include membership for 2021.\nContact:\nMargaret (07) 929 6509 / 022 300 3688\nOr Mike 021 388 394
URL:https://letslearn.nz/event/learn-to-play-bridge-in-te-puke/2021-11-19/
LOCATION:Te Puke Bridge Club\, 4 Queen Street\, Te Puke
CATEGORIES:Bridge
ATTACH;FMTTYPE=image/jpeg:https://letslearn.nz/wp-content/uploads/2021/04/Clubs-Card-Games-Te-Puke-Bridge.jpg
ORGANIZER;CN="Te Puke Bridge Club":MAILTO:tepukebridgeclub@xtra.co.nz
END:VEVENT
BEGIN:VEVENT
DTSTART;TZID=Pacific/Auckland:20211118T193000
DTEND;TZID=Pacific/Auckland:20211118T210000
DTSTAMP:20260421T103239
CREATED:20210331T125013Z
LAST-MODIFIED:20211104T014321Z
UID:10004808-1637263800-1637269200@letslearn.nz
SUMMARY:Learn to Play Bridge in Te Puke
DESCRIPTION:The Te Puke Bridge Club is offering lessons beginning in May. \nLearn to play this incredibly stimulating game ! \nWeekly sessions for 10 weeks –\n–  Thursdays 7.30 – 9.30pm beginning May 6th|\n–  Fridays 10.00 – noon beginning May 7th \nComputerised dealing & scoring in use.\nFees of $49 will include membership for 2021.\nContact:\nMargaret (07) 929 6509 / 022 300 3688\nOr Mike 021 388 394
URL:https://letslearn.nz/event/learn-to-play-bridge-in-te-puke/2021-11-18/
LOCATION:Te Puke Bridge Club\, 4 Queen Street\, Te Puke
CATEGORIES:Bridge
ATTACH;FMTTYPE=image/jpeg:https://letslearn.nz/wp-content/uploads/2021/04/Clubs-Card-Games-Te-Puke-Bridge.jpg
ORGANIZER;CN="Te Puke Bridge Club":MAILTO:tepukebridgeclub@xtra.co.nz
END:VEVENT
BEGIN:VEVENT
DTSTART;TZID=Pacific/Auckland:20211115T130000
DTEND;TZID=Pacific/Auckland:20211116T220000
DTSTAMP:20260421T103239
CREATED:20200613T034638Z
LAST-MODIFIED:20211031T102440Z
UID:10004368-1636981200-1637100000@letslearn.nz
SUMMARY:Bridge in Te Puke
DESCRIPTION:Are you already a bridge player ?  Would you like to learn ?\nCome along and meet us. \nClub days are held three days per week and include singles\, paired and team events over the course of the February to November year. \nSessions are:\nMonday afternoons 1pm- 4pm\nTuesday evenings 7pm -10pm\nFriday afternoons 1pm-4pm followed by light refreshments. \nBridge Lessons are held regularly. \nFor further details\, please visit our website or email tepukebridgeclub@gmail.com .\nClub officers in 2020 are:\nPresident:        June Day\nSecretary:        Bev Nairn\nTreasurer:       Margaret McDonald
URL:https://letslearn.nz/event/bridge-in-te-puke-2/2021-11-15/
LOCATION:Te Puke Bridge Club\, 4 Queen Street\, Te Puke
CATEGORIES:Bridge
ATTACH;FMTTYPE=image/jpeg:https://letslearn.nz/wp-content/uploads/2019/09/Clubs-Bridge-Te-Puke-1.jpg
ORGANIZER;CN="Te Puke Bridge Club":MAILTO:tepukebridgeclub@xtra.co.nz
END:VEVENT
BEGIN:VEVENT
DTSTART;TZID=Pacific/Auckland:20211112T100000
DTEND;TZID=Pacific/Auckland:20211112T120000
DTSTAMP:20260421T103239
CREATED:20221217T012210Z
LAST-MODIFIED:20221217T012210Z
UID:10004814-1636711200-1636718400@letslearn.nz
SUMMARY:Learn to Play Bridge in Te Puke
DESCRIPTION:The Te Puke Bridge Club is offering lessons beginning in May. \nLearn to play this incredibly stimulating game ! \nWeekly sessions for 10 weeks –\n–  Thursdays 7.30 – 9.30pm beginning May 6th|\n–  Fridays 10.00 – noon beginning May 7th \nComputerised dealing & scoring in use.\nFees of $49 will include membership for 2021.\nContact:\nMargaret (07) 929 6509 / 022 300 3688\nOr Mike 021 388 394
URL:https://letslearn.nz/event/learn-to-play-bridge-in-te-puke/2021-11-12/
LOCATION:Te Puke Bridge Club\, 4 Queen Street\, Te Puke
CATEGORIES:Bridge
ATTACH;FMTTYPE=image/jpeg:https://letslearn.nz/wp-content/uploads/2021/04/Clubs-Card-Games-Te-Puke-Bridge.jpg
ORGANIZER;CN="Te Puke Bridge Club":MAILTO:tepukebridgeclub@xtra.co.nz
END:VEVENT
BEGIN:VEVENT
DTSTART;TZID=Pacific/Auckland:20211111T193000
DTEND;TZID=Pacific/Auckland:20211111T210000
DTSTAMP:20260421T103239
CREATED:20210331T125013Z
LAST-MODIFIED:20211104T014321Z
UID:10004807-1636659000-1636664400@letslearn.nz
SUMMARY:Learn to Play Bridge in Te Puke
DESCRIPTION:The Te Puke Bridge Club is offering lessons beginning in May. \nLearn to play this incredibly stimulating game ! \nWeekly sessions for 10 weeks –\n–  Thursdays 7.30 – 9.30pm beginning May 6th|\n–  Fridays 10.00 – noon beginning May 7th \nComputerised dealing & scoring in use.\nFees of $49 will include membership for 2021.\nContact:\nMargaret (07) 929 6509 / 022 300 3688\nOr Mike 021 388 394
URL:https://letslearn.nz/event/learn-to-play-bridge-in-te-puke/2021-11-11/
LOCATION:Te Puke Bridge Club\, 4 Queen Street\, Te Puke
CATEGORIES:Bridge
ATTACH;FMTTYPE=image/jpeg:https://letslearn.nz/wp-content/uploads/2021/04/Clubs-Card-Games-Te-Puke-Bridge.jpg
ORGANIZER;CN="Te Puke Bridge Club":MAILTO:tepukebridgeclub@xtra.co.nz
END:VEVENT
BEGIN:VEVENT
DTSTART;TZID=Pacific/Auckland:20211108T130000
DTEND;TZID=Pacific/Auckland:20211109T220000
DTSTAMP:20260421T103239
CREATED:20200613T034638Z
LAST-MODIFIED:20211031T102440Z
UID:10004367-1636376400-1636495200@letslearn.nz
SUMMARY:Bridge in Te Puke
DESCRIPTION:Are you already a bridge player ?  Would you like to learn ?\nCome along and meet us. \nClub days are held three days per week and include singles\, paired and team events over the course of the February to November year. \nSessions are:\nMonday afternoons 1pm- 4pm\nTuesday evenings 7pm -10pm\nFriday afternoons 1pm-4pm followed by light refreshments. \nBridge Lessons are held regularly. \nFor further details\, please visit our website or email tepukebridgeclub@gmail.com .\nClub officers in 2020 are:\nPresident:        June Day\nSecretary:        Bev Nairn\nTreasurer:       Margaret McDonald
URL:https://letslearn.nz/event/bridge-in-te-puke-2/2021-11-08/
LOCATION:Te Puke Bridge Club\, 4 Queen Street\, Te Puke
CATEGORIES:Bridge
ATTACH;FMTTYPE=image/jpeg:https://letslearn.nz/wp-content/uploads/2019/09/Clubs-Bridge-Te-Puke-1.jpg
ORGANIZER;CN="Te Puke Bridge Club":MAILTO:tepukebridgeclub@xtra.co.nz
END:VEVENT
BEGIN:VEVENT
DTSTART;TZID=Pacific/Auckland:20211105T100000
DTEND;TZID=Pacific/Auckland:20211105T120000
DTSTAMP:20260421T103239
CREATED:20221217T012210Z
LAST-MODIFIED:20221217T012210Z
UID:10004813-1636106400-1636113600@letslearn.nz
SUMMARY:Learn to Play Bridge in Te Puke
DESCRIPTION:The Te Puke Bridge Club is offering lessons beginning in May. \nLearn to play this incredibly stimulating game ! \nWeekly sessions for 10 weeks –\n–  Thursdays 7.30 – 9.30pm beginning May 6th|\n–  Fridays 10.00 – noon beginning May 7th \nComputerised dealing & scoring in use.\nFees of $49 will include membership for 2021.\nContact:\nMargaret (07) 929 6509 / 022 300 3688\nOr Mike 021 388 394
URL:https://letslearn.nz/event/learn-to-play-bridge-in-te-puke/2021-11-05/
LOCATION:Te Puke Bridge Club\, 4 Queen Street\, Te Puke
CATEGORIES:Bridge
ATTACH;FMTTYPE=image/jpeg:https://letslearn.nz/wp-content/uploads/2021/04/Clubs-Card-Games-Te-Puke-Bridge.jpg
ORGANIZER;CN="Te Puke Bridge Club":MAILTO:tepukebridgeclub@xtra.co.nz
END:VEVENT
BEGIN:VEVENT
DTSTART;TZID=Pacific/Auckland:20211104T193000
DTEND;TZID=Pacific/Auckland:20211104T210000
DTSTAMP:20260421T103239
CREATED:20210331T125013Z
LAST-MODIFIED:20211104T014321Z
UID:10004806-1636054200-1636059600@letslearn.nz
SUMMARY:Learn to Play Bridge in Te Puke
DESCRIPTION:The Te Puke Bridge Club is offering lessons beginning in May. \nLearn to play this incredibly stimulating game ! \nWeekly sessions for 10 weeks –\n–  Thursdays 7.30 – 9.30pm beginning May 6th|\n–  Fridays 10.00 – noon beginning May 7th \nComputerised dealing & scoring in use.\nFees of $49 will include membership for 2021.\nContact:\nMargaret (07) 929 6509 / 022 300 3688\nOr Mike 021 388 394
URL:https://letslearn.nz/event/learn-to-play-bridge-in-te-puke/2021-11-04/
LOCATION:Te Puke Bridge Club\, 4 Queen Street\, Te Puke
CATEGORIES:Bridge
ATTACH;FMTTYPE=image/jpeg:https://letslearn.nz/wp-content/uploads/2021/04/Clubs-Card-Games-Te-Puke-Bridge.jpg
ORGANIZER;CN="Te Puke Bridge Club":MAILTO:tepukebridgeclub@xtra.co.nz
END:VEVENT
BEGIN:VEVENT
DTSTART;TZID=Pacific/Auckland:20211101T130000
DTEND;TZID=Pacific/Auckland:20211102T220000
DTSTAMP:20260421T103239
CREATED:20200613T034638Z
LAST-MODIFIED:20211031T102440Z
UID:10004366-1635771600-1635890400@letslearn.nz
SUMMARY:Bridge in Te Puke
DESCRIPTION:Are you already a bridge player ?  Would you like to learn ?\nCome along and meet us. \nClub days are held three days per week and include singles\, paired and team events over the course of the February to November year. \nSessions are:\nMonday afternoons 1pm- 4pm\nTuesday evenings 7pm -10pm\nFriday afternoons 1pm-4pm followed by light refreshments. \nBridge Lessons are held regularly. \nFor further details\, please visit our website or email tepukebridgeclub@gmail.com .\nClub officers in 2020 are:\nPresident:        June Day\nSecretary:        Bev Nairn\nTreasurer:       Margaret McDonald
URL:https://letslearn.nz/event/bridge-in-te-puke-2/2021-11-01/
LOCATION:Te Puke Bridge Club\, 4 Queen Street\, Te Puke
CATEGORIES:Bridge
ATTACH;FMTTYPE=image/jpeg:https://letslearn.nz/wp-content/uploads/2019/09/Clubs-Bridge-Te-Puke-1.jpg
ORGANIZER;CN="Te Puke Bridge Club":MAILTO:tepukebridgeclub@xtra.co.nz
END:VEVENT
BEGIN:VEVENT
DTSTART;TZID=Pacific/Auckland:20201218T130000
DTEND;TZID=Pacific/Auckland:20201218T160000
DTSTAMP:20260421T103239
CREATED:20190831T183826Z
LAST-MODIFIED:20201216T075506Z
UID:10003661-1608296400-1608307200@letslearn.nz
SUMMARY:Bridge in Te Puke
DESCRIPTION:Are you already a bridge player ?  Would you like to learn ?\nCome along and meet us. \nClub days are held three days per week and include singles\, paired and team events over the course of the February to November year.  \nSessions are:\nMonday afternoons 1pm- 4pm\nTuesday evenings 7pm -10pm\nFriday afternoons 1pm-4pm followed by light refreshments. \nBridge Lessons will be starting on July 1st (12 sessions) \nFor further details\, please visit our website or email tepukebridgeclub@gmail.com .\nClub officers in 2020 are:\nPresident:        June Day\nSecretary:        Bev Nairn\nTreasurer:       Margaret McDonald \n  \n 
URL:https://letslearn.nz/event/bridge-in-te-puke/
LOCATION:4 Queen Street\, Te Puke
CATEGORIES:Clubs,Games
ATTACH;FMTTYPE=image/jpeg:https://letslearn.nz/wp-content/uploads/2019/09/Clubs-Bridge-Te-Puke-1.jpg
ORGANIZER;CN="Te Puke Bridge Club":MAILTO:tepukebridgeclub@xtra.co.nz
END:VEVENT
BEGIN:VEVENT
DTSTART;TZID=Pacific/Auckland:20200724T100000
DTEND;TZID=Pacific/Auckland:20200724T120000
DTSTAMP:20260421T103239
CREATED:20200613T003947Z
LAST-MODIFIED:20200723T193834Z
UID:10004365-1595584800-1595592000@letslearn.nz
SUMMARY:Bridge Lessons for Beginners
DESCRIPTION:New Members Welcome \nWe will be starting a series of 12 Bridge lessons beginning\, July 1st. \nWednesdays 7.00 – 9.00pm \nFridays 10.00 am to noon\nYou may attend both or switch between them if you have to miss a day. \n  \nFees will be reduced to half price – $35 for the lessons and membership for 2020. \nAny enquiries\, please ring Margaret Somers at 07 929 6509 or 022 300 3688 \nThe club goes to considerable effort to foster a friendly style and new players are welcomed. Where possible they will place people needing partners. Club days are held three days per week and include singles\, paired and team events over the course of the February to November year.\nFor further details\, please visit our website or email tepukebridgeclub@gmail.com .
URL:https://letslearn.nz/event/18325/
LOCATION:Te Puke Bridge Club\, 4 Queen Street\, Te Puke
CATEGORIES:Card Games,Clubs
ATTACH;FMTTYPE=image/jpeg:https://letslearn.nz/wp-content/uploads/2019/09/Clubs-Bridge-Te-Puke-1.jpg
ORGANIZER;CN="Te Puke Bridge Club":MAILTO:tepukebridgeclub@xtra.co.nz
END:VEVENT
BEGIN:VEVENT
DTSTART;TZID=Pacific/Auckland:20200708T190000
DTEND;TZID=Pacific/Auckland:20200708T210000
DTSTAMP:20260421T103239
CREATED:20200613T003323Z
LAST-MODIFIED:20200702T194509Z
UID:10004364-1594234800-1594242000@letslearn.nz
SUMMARY:Beginners Bridge Lessons
DESCRIPTION:New Members Welcome \nWe will be starting a series of 12 Bridge lessons beginning\, July 1st. \nWednesdays 7.00 – 9.00pm\nFridays 10.00 am to noon \nYou may attend both or switch between them if you have to miss a day. \n  \nFees will be reduced to half price – $35 for the lessons and membership for 2020. \nAny enquiries\, please ring Margaret Somers at 07 929 6509 or 022 300 3688 \nThe club goes to considerable effort to foster a friendly style and new players are welcomed. Where possible they will place people needing partners. Club days are held three days per week and include singles\, paired and team events over the course of the February to November year.\nFor further details\, please visit our website or email tepukebridgeclub@gmail.com .
URL:https://letslearn.nz/event/beginners-bridge-lessons/
LOCATION:Te Puke Bridge Club\, 4 Queen Street\, Te Puke
CATEGORIES:Card Games,Clubs
ATTACH;FMTTYPE=image/jpeg:https://letslearn.nz/wp-content/uploads/2019/09/Clubs-Bridge-Te-Puke-1.jpg
ORGANIZER;CN="Te Puke Bridge Club":MAILTO:tepukebridgeclub@xtra.co.nz
END:VEVENT
END:VCALENDAR