BEGIN:VCALENDAR
VERSION:2.0
PRODID:-//Let&#039;s Learn - ECPv6.15.14//NONSGML v1.0//EN
CALSCALE:GREGORIAN
METHOD:PUBLISH
X-WR-CALNAME:Let&#039;s Learn
X-ORIGINAL-URL:https://letslearn.nz
X-WR-CALDESC:Events for Let&#039;s Learn
REFRESH-INTERVAL;VALUE=DURATION:PT1H
X-Robots-Tag:noindex
X-PUBLISHED-TTL:PT1H
BEGIN:VTIMEZONE
TZID:Pacific/Auckland
BEGIN:STANDARD
TZOFFSETFROM:+1300
TZOFFSETTO:+1200
TZNAME:NZST
DTSTART:20190406T140000
END:STANDARD
BEGIN:DAYLIGHT
TZOFFSETFROM:+1200
TZOFFSETTO:+1300
TZNAME:NZDT
DTSTART:20190928T140000
END:DAYLIGHT
BEGIN:STANDARD
TZOFFSETFROM:+1300
TZOFFSETTO:+1200
TZNAME:NZST
DTSTART:20200404T140000
END:STANDARD
BEGIN:DAYLIGHT
TZOFFSETFROM:+1200
TZOFFSETTO:+1300
TZNAME:NZDT
DTSTART:20200926T140000
END:DAYLIGHT
BEGIN:STANDARD
TZOFFSETFROM:+1300
TZOFFSETTO:+1200
TZNAME:NZST
DTSTART:20210403T140000
END:STANDARD
BEGIN:DAYLIGHT
TZOFFSETFROM:+1200
TZOFFSETTO:+1300
TZNAME:NZDT
DTSTART:20210925T140000
END:DAYLIGHT
BEGIN:STANDARD
TZOFFSETFROM:+1300
TZOFFSETTO:+1200
TZNAME:NZST
DTSTART:20220402T140000
END:STANDARD
BEGIN:DAYLIGHT
TZOFFSETFROM:+1200
TZOFFSETTO:+1300
TZNAME:NZDT
DTSTART:20220924T140000
END:DAYLIGHT
BEGIN:STANDARD
TZOFFSETFROM:+1300
TZOFFSETTO:+1200
TZNAME:NZST
DTSTART:20230401T140000
END:STANDARD
BEGIN:DAYLIGHT
TZOFFSETFROM:+1200
TZOFFSETTO:+1300
TZNAME:NZDT
DTSTART:20230923T140000
END:DAYLIGHT
END:VTIMEZONE
BEGIN:VEVENT
DTSTART;TZID=Pacific/Auckland:20221217T190000
DTEND;TZID=Pacific/Auckland:20221217T223000
DTSTAMP:20260420T091557
CREATED:20191010T193232Z
LAST-MODIFIED:20221013T222959Z
UID:10003702-1671303600-1671316200@letslearn.nz
SUMMARY:Te Puke Scottish Society Dance
DESCRIPTION:We organise a monthly dance (on the 3rd Saturday) as a part of the Te Puke community social network that encourages people to be involved in dancing of all kinds in the Western Bay of Plenty.  Come along and meet the friendly people who live in our town. \nThe dance is at the War Memorial Hall.  Live music\, air-conditioned hall\, lovely supper\, raffles\, spot prizes\, great company.  $7 entry \nContact: Valerie 573 7093 \nDon’t forget: You can also Learn to Dance with the club on Monday Nights !\nTime: 6.30pm-8.30pm at the Te Puke RSA/Citizens Club\, Jellicoe Street\, Te Puke
URL:https://letslearn.nz/event/te-puke-scottish-society-birthday-dance/2022-12-17/
LOCATION:War Memorial Hall\,  130 Jellicoe St\, Te Puke
CATEGORIES:Scottish
ATTACH;FMTTYPE=image/jpeg:https://letslearn.nz/wp-content/uploads/2019/10/Te-Puke-Scottish-Dancers.jpg
ORGANIZER;CN="Te Puke Scottish Society":MAILTO:florry1@hotmail.com
END:VEVENT
BEGIN:VEVENT
DTSTART;TZID=Pacific/Auckland:20221119T190000
DTEND;TZID=Pacific/Auckland:20221119T223000
DTSTAMP:20260420T091557
CREATED:20191010T193232Z
LAST-MODIFIED:20221013T222959Z
UID:10003701-1668884400-1668897000@letslearn.nz
SUMMARY:Te Puke Scottish Society Dance
DESCRIPTION:We organise a monthly dance (on the 3rd Saturday) as a part of the Te Puke community social network that encourages people to be involved in dancing of all kinds in the Western Bay of Plenty.  Come along and meet the friendly people who live in our town. \nThe dance is at the War Memorial Hall.  Live music\, air-conditioned hall\, lovely supper\, raffles\, spot prizes\, great company.  $7 entry \nContact: Valerie 573 7093 \nDon’t forget: You can also Learn to Dance with the club on Monday Nights !\nTime: 6.30pm-8.30pm at the Te Puke RSA/Citizens Club\, Jellicoe Street\, Te Puke
URL:https://letslearn.nz/event/te-puke-scottish-society-birthday-dance/2022-11-19/
LOCATION:War Memorial Hall\,  130 Jellicoe St\, Te Puke
CATEGORIES:Scottish
ATTACH;FMTTYPE=image/jpeg:https://letslearn.nz/wp-content/uploads/2019/10/Te-Puke-Scottish-Dancers.jpg
ORGANIZER;CN="Te Puke Scottish Society":MAILTO:florry1@hotmail.com
END:VEVENT
BEGIN:VEVENT
DTSTART;TZID=Pacific/Auckland:20221015T190000
DTEND;TZID=Pacific/Auckland:20221015T223000
DTSTAMP:20260420T091557
CREATED:20191010T193232Z
LAST-MODIFIED:20221013T222959Z
UID:10003700-1665860400-1665873000@letslearn.nz
SUMMARY:Te Puke Scottish Society Dance
DESCRIPTION:We organise a monthly dance (on the 3rd Saturday) as a part of the Te Puke community social network that encourages people to be involved in dancing of all kinds in the Western Bay of Plenty.  Come along and meet the friendly people who live in our town. \nThe dance is at the War Memorial Hall.  Live music\, air-conditioned hall\, lovely supper\, raffles\, spot prizes\, great company.  $7 entry \nContact: Valerie 573 7093 \nDon’t forget: You can also Learn to Dance with the club on Monday Nights !\nTime: 6.30pm-8.30pm at the Te Puke RSA/Citizens Club\, Jellicoe Street\, Te Puke
URL:https://letslearn.nz/event/te-puke-scottish-society-birthday-dance/2022-10-15/
LOCATION:War Memorial Hall\,  130 Jellicoe St\, Te Puke
CATEGORIES:Scottish
ATTACH;FMTTYPE=image/jpeg:https://letslearn.nz/wp-content/uploads/2019/10/Te-Puke-Scottish-Dancers.jpg
ORGANIZER;CN="Te Puke Scottish Society":MAILTO:florry1@hotmail.com
END:VEVENT
BEGIN:VEVENT
DTSTART;TZID=Pacific/Auckland:20200323T183000
DTEND;TZID=Pacific/Auckland:20200323T203000
DTSTAMP:20260420T091557
CREATED:20191220T224108Z
LAST-MODIFIED:20200316T200052Z
UID:10003091-1584988200-1584995400@letslearn.nz
SUMMARY:Learn to Dance in Te Puke
DESCRIPTION:Learn to dance on Monday Nights !\nGet involved in Modern dancing/ sequence dancing / Old Time Dancing in the Western Bay of Plenty. \nTime: 6.30pm-8.30pm \nVenue: Te Puke RSA/Citizens Club\, Jellicoe Street\, Te Puke \nContact: Gordon Cadman\nPhone: 07 572 0060\nEmail: gordoncadman@kinect.co.nz
URL:https://letslearn.nz/event/learn-to-dance-in-te-puke/
CATEGORIES:Dance,Free
ATTACH;FMTTYPE=image/jpeg:https://letslearn.nz/wp-content/uploads/2019/12/Dancing-Te-Puke.jpg
ORGANIZER;CN="Te Puke Scottish Society":MAILTO:florry1@hotmail.com
END:VEVENT
END:VCALENDAR