BEGIN:VCALENDAR
VERSION:2.0
PRODID:-//Let&#039;s Learn - ECPv6.15.14//NONSGML v1.0//EN
CALSCALE:GREGORIAN
METHOD:PUBLISH
X-WR-CALNAME:Let&#039;s Learn
X-ORIGINAL-URL:https://letslearn.nz
X-WR-CALDESC:Events for Let&#039;s Learn
REFRESH-INTERVAL;VALUE=DURATION:PT1H
X-Robots-Tag:noindex
X-PUBLISHED-TTL:PT1H
BEGIN:VTIMEZONE
TZID:Pacific/Auckland
BEGIN:STANDARD
TZOFFSETFROM:+1300
TZOFFSETTO:+1200
TZNAME:NZST
DTSTART:20210403T140000
END:STANDARD
BEGIN:DAYLIGHT
TZOFFSETFROM:+1200
TZOFFSETTO:+1300
TZNAME:NZDT
DTSTART:20210925T140000
END:DAYLIGHT
BEGIN:STANDARD
TZOFFSETFROM:+1300
TZOFFSETTO:+1200
TZNAME:NZST
DTSTART:20220402T140000
END:STANDARD
BEGIN:DAYLIGHT
TZOFFSETFROM:+1200
TZOFFSETTO:+1300
TZNAME:NZDT
DTSTART:20220924T140000
END:DAYLIGHT
BEGIN:STANDARD
TZOFFSETFROM:+1300
TZOFFSETTO:+1200
TZNAME:NZST
DTSTART:20230401T140000
END:STANDARD
BEGIN:DAYLIGHT
TZOFFSETFROM:+1200
TZOFFSETTO:+1300
TZNAME:NZDT
DTSTART:20230923T140000
END:DAYLIGHT
BEGIN:STANDARD
TZOFFSETFROM:+1300
TZOFFSETTO:+1200
TZNAME:NZST
DTSTART:20240406T140000
END:STANDARD
BEGIN:DAYLIGHT
TZOFFSETFROM:+1200
TZOFFSETTO:+1300
TZNAME:NZDT
DTSTART:20240928T140000
END:DAYLIGHT
BEGIN:STANDARD
TZOFFSETFROM:+1300
TZOFFSETTO:+1200
TZNAME:NZST
DTSTART:20250405T140000
END:STANDARD
BEGIN:DAYLIGHT
TZOFFSETFROM:+1200
TZOFFSETTO:+1300
TZNAME:NZDT
DTSTART:20250927T140000
END:DAYLIGHT
END:VTIMEZONE
BEGIN:VEVENT
DTSTART;TZID=Pacific/Auckland:20241116T090000
DTEND;TZID=Pacific/Auckland:20241116T120000
DTSTAMP:20260420T035748
CREATED:20220101T174928Z
LAST-MODIFIED:20240901T105017Z
UID:10019716-1731747600-1731758400@letslearn.nz
SUMMARY:3 Day Photography Workshop
DESCRIPTION:This 3 day course is for hobbyists and Beginners \n3-Day Beginner Photography Workshop: Master Your Camera and Capture Stunning Shots \nWorkshop Overview:\nIn just 3 days\, you’ll learn how to confidently use your camera manually and start taking the photos you’ve always wanted. This workshop is designed for beginners who want to move beyond automatic settings and take control of their photography. \nDates:\nSaturday 16th Nov\, Sunday 17th Nov and Saturday 23rd November \nLocation:\nMt Maunganui Venue for the first 2 dates and then a location we all choose together. \nTime:\n3 hours each day\, 16th and 17th: 9:00 AM – 12:00 PM. For the 23rd we will meet at 5:00 pm at the selected location.\nCost: $297 \nWorkshop Schedule:\n\nDay 1: Composition\, Camera Buttons\, and Getting Sharp Photos\n\nDuration: 3 hours\nLearn the basics of composition to create visually appealing photos.\nGet to know your camera buttons and settings.\nTips and techniques to ensure your photos are always sharp.\n\n\nDay 2: Learning Manual Mode\n\nDuration: 3 hours\nDive into manual mode and understand how to control aperture\, shutter speed\, and ISO.\nPractice using these settings to achieve the desired exposure and effects.\n\n\nDay 3: Day Out Practicing\n\nDuration: 3 hours\nA practical day out where the group will choose a location to apply what you’ve learned.\nReal-time guidance and feedback to improve your technique on the spot\n\n\n\n  \n\n\n\n\nBook Your Spot \n\n\n\n\nContact: Coni Flores\nPhone: 027 224 7032\nEmail: hello@wandererphotographer.com\nFacebook: https://www.facebook.com/thewandererphotographer\nWebsite: www.wandererphotographer.com\nIG @the_wanderer_photographer
URL:https://letslearn.nz/event/photography-for-beginners/
CATEGORIES:Courses
ATTACH;FMTTYPE=image/png:https://letslearn.nz/wp-content/uploads/2022/01/Photo-Wanderer-3-day-2.png
ORGANIZER;CN="Wanderer Photographer":MAILTO:hello@wandererphotographer.com
END:VEVENT
BEGIN:VEVENT
DTSTART;TZID=Pacific/Auckland:20220820T130000
DTEND;TZID=Pacific/Auckland:20220820T170000
DTSTAMP:20260420T035748
CREATED:20220326T231916Z
LAST-MODIFIED:20220326T231946Z
UID:10004149-1661000400-1661014800@letslearn.nz
SUMMARY:Glow Worm Photography
DESCRIPTION:Capture a Universe in a Cave\nJoin us on this amazing experience exploring one of the most beautiful glowworm caves in Waitomo! We will explore by foot by boat in a small group of no more than 6 photographers. We will explore 2 different caves and we will have them to ourselves!\nThe tracks are safe and easy\, though a moderate level of fitness is required as we will be walking and standing for more than 3 hours. You have to be comfortable being in the dark. We will travel at a slow pace and allow extra time to ensure we arrive on schedule. After we explore the caves together we will split into 3 groups and rotate so we all get to take the photos we want! \nLearn How: Before the Tour\, we will spend 30 minutes teaching you what setting to use\, how to get the glowworms in focus and how to set up your camera and tripod\n+ 3 Hours of Practice: We will spend more than 3 hours in the caves and we will be there with you in case you have questions or you get stuck! \nSnacks Included: We will have some snacks for after the tour so we can socialize and share our experiences and photos!
URL:https://letslearn.nz/event/glow-worm-photography/
LOCATION:Waitomo Caves
CATEGORIES:Courses
ATTACH;FMTTYPE=image/jpeg:https://letslearn.nz/wp-content/uploads/2022/03/Photo-Wanderlust-Waitomo.jpg
ORGANIZER;CN="Wanderer Photographer":MAILTO:hello@wandererphotographer.com
END:VEVENT
BEGIN:VEVENT
DTSTART;TZID=Pacific/Auckland:20220702T103000
DTEND;TZID=Pacific/Auckland:20220702T153000
DTSTAMP:20260420T035748
CREATED:20220101T190224Z
LAST-MODIFIED:20220101T190317Z
UID:10005024-1656757800-1656775800@letslearn.nz
SUMMARY:Photography: Skin Retouching Workshop
DESCRIPTION:Learn how from the talented Karolina Ferbei on this half-day workshop and improve your Photoshop Skills by learning about layers\, masks and advanced retouching techniques that will make your clients really happy with professional-looking photos.\nThis workshop is designed for photographers who would like to up-skill by learning how to professional retouch their portrait photos and learn more about Photoshop and advanced techniques to achieve amazing results!\nYou will learn:\nFrequency Separation\nDodge and Burn\nLocal Colour Adjustment\nEye brightening and teeth whitening\nLiquifying\nSharpening tools\n\nSee Karolina’s Work:\nhttps://www.instagram.com/karolinafe.photography/\n\nTutor: Karolina Ferbei\nDate: Saturday 2nd July 2022\nTime: From 10:30 am to 3:30 pm\nPlace: Arataki Community Centre (Mt Maunganui)\nCost: $300 \nContact: Coni Flores\nPhone: 027 224 7032\nEmail: hello@wandererphotographer.com\nFacebook: https://www.facebook.com/thewandererphotographer\nWebsite: www.wandererphotographer.com\nIG @the_wanderer_photographer
URL:https://letslearn.nz/event/photography-astrophotography-workshop-duplicate-1/
LOCATION:Arataki Community Centre\, Zambuk Way\, Mount Maunganui\,
CATEGORIES:Courses
ATTACH;FMTTYPE=image/jpeg:https://letslearn.nz/wp-content/uploads/2022/01/Photography-Skin-Retouching-Wanderer.jpg
ORGANIZER;CN="Wanderer Photographer":MAILTO:hello@wandererphotographer.com
END:VEVENT
BEGIN:VEVENT
DTSTART;TZID=Pacific/Auckland:20220402T173000
DTEND;TZID=Pacific/Auckland:20220402T213000
DTSTAMP:20260420T035748
CREATED:20220101T191447Z
LAST-MODIFIED:20220101T191447Z
UID:10005025-1648920600-1648935000@letslearn.nz
SUMMARY:Photography: Studio Lights for Portraits Workshop
DESCRIPTION:Learn from the talented Karolina Ferbei and expand your work opportunities by discovering the benefits of working with artificial light.\nWe’ll even teach you how to set up a budget studio at home!\nThis workshop is designed for photographers who would like to up-skill by learning about the different types of artificial and studio lights\, their benefits\, and how to achieve various light schemes through their use. By the end of the workshop\, you will have all the tools and knowledge you need to set up your own budget studio at home!\nClass Breakdown:\nSaturday Morning | 9:00 am – 10:00 am\nWe will start the day with one hour of theory (we will give you access to the presentations and give you notes too)\nSaturday | 10:00 am – 12:30 pm\nThis module will be 100% hands-on\, we will work in groups and you will get to set up the lights and take photos of the different light schemes. You will also learn how to use a flashlight studio and the difference between both\n\nFor more information:\nhttps://wandererphotographer.com/workshops/studio-lights/\nPrice: $250 NZD\nSee Karolina’s work:\nhttps://www.instagram.com/karolinafe.photography/\n\n\nTutor: Karolina Ferbei\nDate: Saturday 28th May 2022\nTime: From 9:00 am to 12:30 pm\nPlace: Welcome Bay Rd\, Tauranga\nCost: $250 \nQuestions? Get in touch! \nContact: Coni Flores\nPhone: 027 224 7032\nEmail: hello@wandererphotographer.com\nFacebook: https://www.facebook.com/thewandererphotographer\nWebsite: www.wandererphotographer.com\nIG @the_wanderer_photographer
URL:https://letslearn.nz/event/photography-astrophotography-workshop-duplicate-1-2/
LOCATION:Welcome Bay Rd\, Welcome Bay
CATEGORIES:Courses
ATTACH;FMTTYPE=image/jpeg:https://letslearn.nz/wp-content/uploads/2022/01/Photography-Studio-Lights-Wanderer.jpg
ORGANIZER;CN="Wanderer Photographer":MAILTO:hello@wandererphotographer.com
END:VEVENT
BEGIN:VEVENT
DTSTART;TZID=Pacific/Auckland:20220402T173000
DTEND;TZID=Pacific/Auckland:20220402T213000
DTSTAMP:20260420T035748
CREATED:20220101T182712Z
LAST-MODIFIED:20220101T190743Z
UID:10005022-1648920600-1648935000@letslearn.nz
SUMMARY:Photography: Astrophotography Workshop
DESCRIPTION:Learn how to take photos of the night sky and the Milky Way in this 4-hour workshop!\nSmall group and friendly environment!\nWhat you will learn:\n– About the Milky Way\n– Astrophotography camera settings\n– Astrophotography equipment\n– Focusing in low light conditions\n– How to compose images with the Milky Way\n– Quick overview on how to edit these photos\n\nWe can lend you a camera\, tripod or/and remote shutter release!\nThis workshop is weather dependant\, it could be cancelled on the same day (as weather is very changeable and unpredictable).\nDate: Saturday 2nd April 2022\nTime: From 5:30 pm to 9:30 pm\nPlace: Arataki Community Centre (Mt Maunganui)\nCost: $150 \nGroup: Maximum 6 people\, minimum 4 \nWhat to bring: Camera\,  charged batteries\, tripod (if you have one)\, remote shutter release (if you have one)\, a head torch and warm clothes.\nWe can lend you a camera\, tripod or/and remote shutter release! \nNote: This workshop is weather dependant\, it could be cancelled on the same day (as weather is very changeable and unpredictable). \nContact: Coni Flores\nPhone: 027 224 7032\nEmail: hello@wandererphotographer.com\nFacebook: https://www.facebook.com/thewandererphotographer\nWebsite: www.wandererphotographer.com\nIG @the_wanderer_photographer
URL:https://letslearn.nz/event/photography-long-exposure-workshop-duplicate-1/
LOCATION:Arataki Community Centre\, Zambuk Way\, Mount Maunganui\,
CATEGORIES:Courses
ATTACH;FMTTYPE=image/jpeg:https://letslearn.nz/wp-content/uploads/2022/01/Photography-Astrophoto-Wanderer.jpg
ORGANIZER;CN="Wanderer Photographer":MAILTO:hello@wandererphotographer.com
END:VEVENT
BEGIN:VEVENT
DTSTART;TZID=Pacific/Auckland:20220312T150000
DTEND;TZID=Pacific/Auckland:20220312T193000
DTSTAMP:20260420T035748
CREATED:20220101T181937Z
LAST-MODIFIED:20220101T182112Z
UID:10005021-1647097200-1647113400@letslearn.nz
SUMMARY:Photography: Long Exposure Workshop
DESCRIPTION:Take your photography skills to the next level and join our Long Exposure Workshop! \nThis 4.5-hour workshop designed for people who have attended the “Learn Photography Workshop” or people who know how to use their cameras in Manual Mode and have a clear understanding of the light meter\, ISO\, shutter speed and aperture. \nYou will learn all about filters\, how to do camera panning\, how to take abstract photos and of course\, how to take amazing long exposures up to 8 min!\nWe will teach you a step by step technique in the theory module and then we will practice on the beach! \nDate: Saturday 12th March 2022\nTime: From 3:00 am to 7:30 pm\nPlace: Arataki Community Centre (Mt Maunganui)\nCost: $150 \nWorkshop Dynamic\n-Theoretical/practical on groups of max 6 people. \nWhat to bring: Camera\, tripod\, filters (if you have)\, a torch and warm clothes. \nContact: Coni Flores\nPhone: 027 224 7032\nEmail: hello@wandererphotographer.com\nFacebook: https://www.facebook.com/thewandererphotographer\nWebsite: www.wandererphotographer.com\nIG @the_wanderer_photographer
URL:https://letslearn.nz/event/photography-for-beginners-duplicate-1/
LOCATION:Arataki Community Centre\, Zambuk Way\, Mount Maunganui\,
CATEGORIES:Courses
ATTACH;FMTTYPE=image/webp:https://letslearn.nz/wp-content/uploads/2022/01/Photography-Long-Exposure-Wanderer.webp
ORGANIZER;CN="Wanderer Photographer":MAILTO:hello@wandererphotographer.com
END:VEVENT
BEGIN:VEVENT
DTSTART;TZID=Pacific/Auckland:20220305T113000
DTEND;TZID=Pacific/Auckland:20220305T163000
DTSTAMP:20260420T035748
CREATED:20220101T184201Z
LAST-MODIFIED:20220101T184247Z
UID:10005023-1646479800-1646497800@letslearn.nz
SUMMARY:Photography: Macro Photography Workshop
DESCRIPTION:Learn how to create stunning macro images with the talented Jo Ottey on this full-day workshop that will teach you\, inspire you and make you unleash your creativity!\nThis workshop is designed for photographers who want to expand their knowledge and want to explore the world from a macro perspective! In this 5-hour workshop\, you will learn the theory behind this style of photography and you have the time and support to create your own stunning images!\nWhat you will learn:\nEquipment used\nDepth of field\nFocusing\nHow to locate subjects\nBackgrounds\nComposition\nRevenue sources and Social media\nTips and tricks to photograph droplets\n\nSee Jo’s work: https://www.instagram.com/jo.ottey.photography/\nMore information: https://wandererphotographer.com/…/macro-photography…/\nGet in touch!\n\nTutor: Jo Ottey\nDate: Saturday 5th March 2022\nTime: From 11:30 am to 4:30 pm\nPlace: Arataki Community Centre (Mt Maunganui)\nCost: $250 \nGroup: Maximum 6 people\, minimum 4 \nWhat to bring: Camera\,  charged batteries\, tripod (if you have one)\, remote shutter release (if you have one)\, a head torch and warm clothes.\nWe can lend you a camera\, tripod or/and remote shutter release! \nNote: This workshop is weather dependant\, it could be cancelled on the same day (as weather is very changeable and unpredictable). \nBooking Contact: Coni Flores\nPhone: 027 224 7032\nEmail: hello@wandererphotographer.com\nFacebook: https://www.facebook.com/thewandererphotographer\nWebsite: www.wandererphotographer.com\nIG @the_wanderer_photographer
URL:https://letslearn.nz/event/photography-astrophotography-workshop-duplicate-2/
LOCATION:Arataki Community Centre\, Zambuk Way\, Mount Maunganui\,
CATEGORIES:Courses
ATTACH;FMTTYPE=image/jpeg:https://letslearn.nz/wp-content/uploads/2022/01/Photography-Macro-Wanderer.jpg
ORGANIZER;CN="Wanderer Photographer":MAILTO:hello@wandererphotographer.com
END:VEVENT
BEGIN:VEVENT
DTSTART;TZID=Pacific/Auckland:20220222T190000
DTEND;TZID=Pacific/Auckland:20220224T210000
DTSTAMP:20260420T035748
CREATED:20220101T173555Z
LAST-MODIFIED:20220101T173647Z
UID:10004077-1645556400-1645736400@letslearn.nz
SUMMARY:Artistic Portrait Photography & Photoshop Workshop
DESCRIPTION:Learn from the talented Karolina Ferbei on this 3-day workshop!\nThis workshop is made for photographers who would like to up-skill and learn about model direction\, shoot preparations and post-production techniques in Photoshop and also for photographers who are looking to build their portfolio with outstanding images! \nRequirements:\nYou need to have basic knowledge of photography (know how to use your camera in manual mode) and download Photoshop (mandatory) and Lightroom (this one is optional). \nTuesday 22nd February 2022 | 7:00 pm – 8:00 pm\nOn Tuesday you will learn from home through an online Zoom class. You will learn how to create an idea and carry it out\, how to find locations\, models and clothes without spending too much! You will learn how to best combine sceneries with different types of models and different colours to make them more appealing to the eyes.\nWednesday 23rd February 2022 | 6:00 – 8:00 pm\nOn Wednesday We will start at 6:00 pm at the photoshoot location. We will have a beautiful setup with a professional model\, professional makeup artist and we will create different sets so we can work on them the next day. \nThursday 24th February 2022 | 5:00 pm – 9:00 pm\nOn Thursday we will meet at 5:00 pm and you will learn how to professionally edit the photos in Photoshop by using layers\, masks and some new amazing tools! \nPrice: $500\nWhat’s included:\n– Notes\n– Videos\n– Access to presentations\n– Notebook\n– Snacks\n– We lend cameras if needed \nMore information: Find Karolina’s work here https://www.instagram.com/karolinafe.photography/\nSend us an email to hello@wandererphotographer.com
URL:https://letslearn.nz/event/35072/
LOCATION:McLaren Falls Park\, Kaimais
CATEGORIES:Courses
ATTACH;FMTTYPE=image/webp:https://letslearn.nz/wp-content/uploads/2022/01/Photography-Portraits-Wanderer.webp
ORGANIZER;CN="Wanderer Photographer":MAILTO:hello@wandererphotographer.com
END:VEVENT
END:VCALENDAR