BEGIN:VCALENDAR
VERSION:2.0
PRODID:-//Let&#039;s Learn - ECPv6.15.14//NONSGML v1.0//EN
CALSCALE:GREGORIAN
METHOD:PUBLISH
X-ORIGINAL-URL:https://letslearn.nz
X-WR-CALDESC:Events for Let&#039;s Learn
REFRESH-INTERVAL;VALUE=DURATION:PT1H
X-Robots-Tag:noindex
X-PUBLISHED-TTL:PT1H
BEGIN:VTIMEZONE
TZID:Pacific/Auckland
BEGIN:STANDARD
TZOFFSETFROM:+1300
TZOFFSETTO:+1200
TZNAME:NZST
DTSTART:20200404T140000
END:STANDARD
BEGIN:DAYLIGHT
TZOFFSETFROM:+1200
TZOFFSETTO:+1300
TZNAME:NZDT
DTSTART:20200926T140000
END:DAYLIGHT
BEGIN:STANDARD
TZOFFSETFROM:+1300
TZOFFSETTO:+1200
TZNAME:NZST
DTSTART:20210403T140000
END:STANDARD
BEGIN:DAYLIGHT
TZOFFSETFROM:+1200
TZOFFSETTO:+1300
TZNAME:NZDT
DTSTART:20210925T140000
END:DAYLIGHT
BEGIN:STANDARD
TZOFFSETFROM:+1300
TZOFFSETTO:+1200
TZNAME:NZST
DTSTART:20220402T140000
END:STANDARD
BEGIN:DAYLIGHT
TZOFFSETFROM:+1200
TZOFFSETTO:+1300
TZNAME:NZDT
DTSTART:20220924T140000
END:DAYLIGHT
BEGIN:STANDARD
TZOFFSETFROM:+1300
TZOFFSETTO:+1200
TZNAME:NZST
DTSTART:20230401T140000
END:STANDARD
BEGIN:DAYLIGHT
TZOFFSETFROM:+1200
TZOFFSETTO:+1300
TZNAME:NZDT
DTSTART:20230923T140000
END:DAYLIGHT
END:VTIMEZONE
BEGIN:VEVENT
DTSTART;TZID=Pacific/Auckland:20221105T130000
DTEND;TZID=Pacific/Auckland:20221105T150000
DTSTAMP:20260423T143950
CREATED:20220326T222008Z
LAST-MODIFIED:20220326T222044Z
UID:10004147-1667653200-1667660400@letslearn.nz
SUMMARY:Worm Composting Workshop Katikati
DESCRIPTION:FOR WESTERN BAY OF PLENTY RESIDENTS ONLY \n\n\n\nA home worm composting farm is a great way for you to deal with most of your kitchen food scraps and create rich compost for your garden. Come along to this hands-on\, two-hour interactive workshop and learn the art of worm farming! \nAt the end of the workshop you’ll receive your very own Vermihut worm farm bin\, tiger worms plus lime and compost (valued over $180)\, so you can get started straight away. \nBenefits of your worm farm:\n– Quick and easy to get rid of your kitchen scraps\n– Lightens your rubbish bag – saves money!\n– Creates a free\, natural fertiliser\n– Stops methane gas production by removing your food waste from the landfill\n– Minimal in size\, perfect for all sized gardens \nThis workshop is perfect for worm farm beginners with little or no experience\, or for those who would like a refresher. If you do not require a worm farm\, but you would still like to learn about worm farming\, you are welcome to attend the workshop at no cost\, however\, you’ll still need to register. \nHelp us to minimise waste going to landfill – register now! \nWhen: Saturday November 5th 2022  1pm-3pm\nWhere: The Centre – Pātuki Manawa\, (The Hub)\, 21 Main Road\, Katikati \nCost: \n\n\nTickets and cost:\n\n30 tickets per location for participants and 10 tickets for observers who must book a ticket but don’t pay a fee.\n$50.00 per ticket for participants receiving the material after workshop – only one worm farm per household.\n\n\n\n\n\n\nFor tickets click here.\n\nPlease note\, the workshop is subsidised by Council with a small fee charged. It is open to Western Bay of Plenty District Council residents ONLY. Just one worm farm per household can be issued\, but for each paid registration\, two people may attend. Our worm farm kits are specially ordered for each workshop based on attendee numbers\, therefore we are unable to provide a refund for non-attendance. No door sales available. \n\nOther dates and venues :\n\nTe Puke – Settlers Room – Te Puke War Memorial Hall\, 130 Jellicoe Street\, Te Puke– Saturday\, 2 April 2022 from 1pm to 3 pm. For tickets click here\nWaihi Beach – Waihi Beach Community Centre\, 102 Beach Road\, Waihī Beach. – Saturday\, 7 May 2022 from 1 pm to 3 pm. For tickets click here.\nŌmokoroa – Ōmokoroa Pavillion\, Social Space\, 28 Western Avenue\, Ōmokoroa 3114 – Saturday \,27 August 2022 from 1 pm to 3 pm – Note may be a new venue for Eventfinda. For tickets click here.
URL:https://letslearn.nz/event/worm-composting-workshop-omokoroa-duplicate-1/
LOCATION:Pātuki Manawa\, (The Hub)\, 21 Main Road\, Katikati
CATEGORIES:Worm Composting
ATTACH;FMTTYPE=image/png:https://letslearn.nz/wp-content/uploads/2021/08/Garden-Worm-Composting.png
ORGANIZER;CN="Western Bay Council":MAILTO:Customer.Service@westernbay.govt.nz
END:VEVENT
BEGIN:VEVENT
DTSTART;TZID=Pacific/Auckland:20220402T130000
DTEND;TZID=Pacific/Auckland:20220402T150000
DTSTAMP:20260423T143950
CREATED:20210814T021022Z
LAST-MODIFIED:20220326T220628Z
UID:10004924-1648904400-1648911600@letslearn.nz
SUMMARY:Worm Composting Workshop Te Puke
DESCRIPTION:FOR WESTERN BAY OF PLENTY RESIDENTS ONLY \n\n\n\nA home worm composting farm is a great way for you to deal with most of your kitchen food scraps and create rich compost for your garden. Come along to this hands-on\, two-hour interactive workshop and learn the art of worm farming! \nAt the end of the workshop you’ll receive your very own Vermihut worm farm bin\, tiger worms plus lime and compost (valued over $180)\, so you can get started straight away. \nBenefits of your worm farm:\n– Quick and easy to get rid of your kitchen scraps\n– Lightens your rubbish bag – saves money!\n– Creates a free\, natural fertiliser\n– Stops methane gas production by removing your food waste from the landfill\n– Minimal in size\, perfect for all sized gardens \nThis workshop is perfect for worm farm beginners with little or no experience\, or for those who would like a refresher. If you do not require a worm farm\, but you would still like to learn about worm farming\, you are welcome to attend the workshop at no cost\, however\, you’ll still need to register. \nHelp us to minimise waste going to landfill – register now! \nWhen: Saturday April 2nd  1pm-3pm\nWhere:  Te Puke War Memorial Hall\, 130 Jellicoe Street\, Te Puke \nCost: \n\n\nTickets and cost:\n\n30 tickets per location for participants and 10 tickets for observers who must book a ticket but don’t pay a fee.\n$50.00 per ticket for participants receiving the material after workshop – only one worm farm per household.\n\n\n\n\n\n\nFor tickets click here\n\nPlease note\, the workshop is subsidised by Council with a small fee charged. It is open to Western Bay of Plenty District Council residents ONLY. Just one worm farm per household can be issued\, but for each paid registration\, two people may attend. Our worm farm kits are specially ordered for each workshop based on attendee numbers\, therefore we are unable to provide a refund for non-attendance. No door sales available. \n\nOther dates and venues :\n\nWaihi Beach – Waihi Beach Community Centre\, 102 Beach Road\, Waihī Beach. – Saturday\, 7 May 2022 from 1 pm to 3 pm. For tickets click here.\nŌmokoroa – Ōmokoroa Pavillion\, Social Space\, 28 Western Avenue\, Ōmokoroa 3114 – Saturday \,27 August 2022 from 1 pm to 3 pm – Note may be a new venue for Eventfinda. For tickets click here.\nKatikati – The Centre – Pātuki Manawa\, (The Hub)\, 21 Main Road\, Katikati 3129 – Saturday\, 5 November 2022 – from 1 pm to 3 pm – Note may be a new venue for Eventfinda. For tickets click here.
URL:https://letslearn.nz/event/worm-composting-workshop-omokoroa/
LOCATION:Te Puke War Memorial Hall\, 130 Jellicoe Street\, Te Puke
CATEGORIES:Worm Composting
ATTACH;FMTTYPE=image/png:https://letslearn.nz/wp-content/uploads/2021/08/Garden-Worm-Composting.png
ORGANIZER;CN="Western Bay Council":MAILTO:Customer.Service@westernbay.govt.nz
END:VEVENT
BEGIN:VEVENT
DTSTART;TZID=Pacific/Auckland:20210729T163000
DTEND;TZID=Pacific/Auckland:20210729T183000
DTSTAMP:20260423T143950
CREATED:20210721T035341Z
LAST-MODIFIED:20210721T035341Z
UID:10003826-1627576200-1627583400@letslearn.nz
SUMMARY:Ōmokoroa Peninsula Projects - Information Evening
DESCRIPTION:Join us to find out more about what’s happening in the Ōmokoroa neighbourhood.\nThis drop-in information session is your opportunity to meet with Council during the course of the Ōmokoroa Peninsula developments\, find out more about the projects\, and ask any questions you may have about specific projects.\nThere will be no presentation\, rather informal chats with staff\, so feel free to turn up at any time.\nBy 2060\, the Ōmokoroa peninsula will be fully developed and home to an estimated 12\,000 residents. To cater for this significant growth and the need for continuing improvements to the peninsula’s infrastructure\, Council is undertaking a series of projects – roading\, recreation\, cycleways\, stormwater\, building and planning – between now and 2022.\nIf you can’t make this event\, and would like to know about the Ōmokoroa Peninsula developments\, visit: http://www.westernbay.govt.nz/…/omokoroa-peninsula…
URL:https://letslearn.nz/event/omokoroa-peninsula-projects-information-evening/
LOCATION:Ōmokoroa Settlers Hall\,  334 Ōmokoroa Rd\, Ōmokoroa
CATEGORIES:Community Groups,Free
ATTACH;FMTTYPE=image/jpeg:https://letslearn.nz/wp-content/uploads/2021/07/Commun-Omokoroa-projects.jpg
ORGANIZER;CN="Western Bay Council":MAILTO:Customer.Service@westernbay.govt.nz
END:VEVENT
END:VCALENDAR