BEGIN:VCALENDAR
VERSION:2.0
PRODID:-//Let&#039;s Learn - ECPv6.15.14//NONSGML v1.0//EN
CALSCALE:GREGORIAN
METHOD:PUBLISH
X-ORIGINAL-URL:https://letslearn.nz
X-WR-CALDESC:Events for Let&#039;s Learn
REFRESH-INTERVAL;VALUE=DURATION:PT1H
X-Robots-Tag:noindex
X-PUBLISHED-TTL:PT1H
BEGIN:VTIMEZONE
TZID:Pacific/Auckland
BEGIN:STANDARD
TZOFFSETFROM:+1300
TZOFFSETTO:+1200
TZNAME:NZST
DTSTART:20180331T140000
END:STANDARD
BEGIN:DAYLIGHT
TZOFFSETFROM:+1200
TZOFFSETTO:+1300
TZNAME:NZDT
DTSTART:20180929T140000
END:DAYLIGHT
BEGIN:STANDARD
TZOFFSETFROM:+1300
TZOFFSETTO:+1200
TZNAME:NZST
DTSTART:20190406T140000
END:STANDARD
BEGIN:DAYLIGHT
TZOFFSETFROM:+1200
TZOFFSETTO:+1300
TZNAME:NZDT
DTSTART:20190928T140000
END:DAYLIGHT
BEGIN:STANDARD
TZOFFSETFROM:+1300
TZOFFSETTO:+1200
TZNAME:NZST
DTSTART:20200404T140000
END:STANDARD
BEGIN:DAYLIGHT
TZOFFSETFROM:+1200
TZOFFSETTO:+1300
TZNAME:NZDT
DTSTART:20200926T140000
END:DAYLIGHT
BEGIN:STANDARD
TZOFFSETFROM:+1300
TZOFFSETTO:+1200
TZNAME:NZST
DTSTART:20210403T140000
END:STANDARD
BEGIN:DAYLIGHT
TZOFFSETFROM:+1200
TZOFFSETTO:+1300
TZNAME:NZDT
DTSTART:20210925T140000
END:DAYLIGHT
END:VTIMEZONE
BEGIN:VEVENT
DTSTART;TZID=Pacific/Auckland:20200311T110000
DTEND;TZID=Pacific/Auckland:20200311T123000
DTSTAMP:20260422T005631
CREATED:20200220T234814Z
LAST-MODIFIED:20200220T234815Z
UID:10003180-1583924400-1583929800@letslearn.nz
SUMMARY:Free Seminar: Digital Marketing in a New Decade
DESCRIPTION:Brought to you by Zeald\, a Premier Google Partner and New Zealand’s leading website design and digital marketing company. \nIn this seminar Jarra and Tom will outline the importance of digital marketing and provide practical tips and tricks covering: \n\nEngaging digital customers\nCreating a highly persuasive website\nConverting traffic to meet business objectives\nSocial media best practice\nHarnessing the power of Google AdWords\nGenerating smart online content\nProducing targeted online traffic\n\nDate: Wednesday 11th March 2020 \nTime: Registration 10.45am.  Seminar from 11am to 12.30pm \nPlace: Classic Flyers\, 8 Jean Batten Drive\, Mt Maunganui \nSeats are limited.  Register now.\nRegister here or for more information contact us on 0508 932 748 (Option 6) or at seminars@zeald.com.
URL:https://letslearn.nz/event/free-seminar-digital-marketing-in-a-new-decade/
LOCATION:Classic Flyers\, 9 Jean Batten Drive\, Mount Maunganui
CATEGORIES:Business,Computing IT
ATTACH;FMTTYPE=image/jpeg:https://letslearn.nz/wp-content/uploads/2019/02/Zeald-March-2020.jpg
ORGANIZER;CN="Zeald":MAILTO:seminars@zeald.com
END:VEVENT
BEGIN:VEVENT
DTSTART;TZID=Pacific/Auckland:20191106T110000
DTEND;TZID=Pacific/Auckland:20191106T123000
DTSTAMP:20260422T005631
CREATED:20191102T154811Z
LAST-MODIFIED:20191102T154812Z
UID:10003808-1573038000-1573043400@letslearn.nz
SUMMARY:Digital Marketing Free Seminar
DESCRIPTION:Brought to you by Zeald\, a Premier Google Partner and New Zealand’s leading website design and digital marketing company. \nWithout a solid digital marketing strategy catering to a growing online market\, you could be missing out on up to 81% of your potential opportunities. This is tantamount to making your office hours Monday only and shutting for the rest of the week. \nCome hear from Jarra Borman\, a member of the Tauranga Chamber and Zeald Agency General Manager; as well as Tom Griffiths the Zeald Agency Digital Business Strategist. \nIn this seminar\, Jarra and Tom will outline the importance of digital marketing and provide practical tips and tricks. \nIf you are looking to online to generate leads and sales then this FREE Seminar is for you! \nRegister here\, or for more information contact us on 0508 932 748 (Option 6) or at seminars@zeald.com.
URL:https://letslearn.nz/event/digital-marketing-free-seminar/
LOCATION:Classic Flyers\, 9 Jean Batten Drive\, Mount Maunganui
CATEGORIES:Business,Computing IT
ORGANIZER;CN="Zeald":MAILTO:seminars@zeald.com
END:VEVENT
END:VCALENDAR