BEGIN:VCALENDAR
VERSION:2.0
PRODID:-//Let&#039;s Learn - ECPv6.15.14//NONSGML v1.0//EN
CALSCALE:GREGORIAN
METHOD:PUBLISH
X-ORIGINAL-URL:https://letslearn.nz
X-WR-CALDESC:Events for Let&#039;s Learn
REFRESH-INTERVAL;VALUE=DURATION:PT1H
X-Robots-Tag:noindex
X-PUBLISHED-TTL:PT1H
BEGIN:VTIMEZONE
TZID:Pacific/Auckland
BEGIN:STANDARD
TZOFFSETFROM:+1300
TZOFFSETTO:+1200
TZNAME:NZST
DTSTART:20190406T140000
END:STANDARD
BEGIN:DAYLIGHT
TZOFFSETFROM:+1200
TZOFFSETTO:+1300
TZNAME:NZDT
DTSTART:20190928T140000
END:DAYLIGHT
BEGIN:STANDARD
TZOFFSETFROM:+1300
TZOFFSETTO:+1200
TZNAME:NZST
DTSTART:20200404T140000
END:STANDARD
BEGIN:DAYLIGHT
TZOFFSETFROM:+1200
TZOFFSETTO:+1300
TZNAME:NZDT
DTSTART:20200926T140000
END:DAYLIGHT
BEGIN:STANDARD
TZOFFSETFROM:+1300
TZOFFSETTO:+1200
TZNAME:NZST
DTSTART:20210403T140000
END:STANDARD
BEGIN:DAYLIGHT
TZOFFSETFROM:+1200
TZOFFSETTO:+1300
TZNAME:NZDT
DTSTART:20210925T140000
END:DAYLIGHT
END:VTIMEZONE
BEGIN:VEVENT
DTSTART;TZID=Pacific/Auckland:20200205T190000
DTEND;TZID=Pacific/Auckland:20200205T210000
DTSTAMP:20260420T234001
CREATED:20200127T193806Z
LAST-MODIFIED:20211103T031250Z
UID:10004210-1580929200-1580936400@letslearn.nz
SUMMARY:Crochet Workshop with Andrea
DESCRIPTION:In this lively hands on workshop you will learn the beginning steps of the wonderful art of crochet in a unrushed environment. The learning group is small to ensure learning quality.\nYou will make a rose and receive your own crochet hook and a ball of wool to take home and practice. There we go!! Easy\, fun\, achievable. In previous workshops people went home and made hairbands\, scarves and all sorts. \nOnce you start\, you can’t stop!! My biggest goal is for you to become totally absorbed with this amazing craft and love it eventually as much as I do. All you need to do is give it a go!! \nFor more details and to book:\nPhone: Andrea  0279557499\nBooking is essential. \nEmail: Kiwihomesteaders@gmail.com\nFacebook: https://www.facebook.com/kiwihomesteaders
URL:https://letslearn.nz/event/crochet-workshop-with-andrea/
LOCATION:Arataki Kindergarten\, 31 Hawea Street Mt. Maunganui
CATEGORIES:Crochet
ATTACH;FMTTYPE=image/jpeg:https://letslearn.nz/wp-content/uploads/2020/01/Andreas-Crochet-Workshop-1.jpg
ORGANIZER;CN="Andrea Lehmann":MAILTO:Kiwihomesteaders@gmail.com
END:VEVENT
END:VCALENDAR