BEGIN:VCALENDAR
VERSION:2.0
PRODID:-//Let&#039;s Learn - ECPv6.15.14//NONSGML v1.0//EN
CALSCALE:GREGORIAN
METHOD:PUBLISH
X-WR-CALNAME:Let&#039;s Learn
X-ORIGINAL-URL:https://letslearn.nz
X-WR-CALDESC:Events for Let&#039;s Learn
REFRESH-INTERVAL;VALUE=DURATION:PT1H
X-Robots-Tag:noindex
X-PUBLISHED-TTL:PT1H
BEGIN:VTIMEZONE
TZID:Pacific/Auckland
BEGIN:STANDARD
TZOFFSETFROM:+1300
TZOFFSETTO:+1200
TZNAME:NZST
DTSTART:20230401T140000
END:STANDARD
BEGIN:DAYLIGHT
TZOFFSETFROM:+1200
TZOFFSETTO:+1300
TZNAME:NZDT
DTSTART:20230923T140000
END:DAYLIGHT
BEGIN:STANDARD
TZOFFSETFROM:+1300
TZOFFSETTO:+1200
TZNAME:NZST
DTSTART:20240406T140000
END:STANDARD
BEGIN:DAYLIGHT
TZOFFSETFROM:+1200
TZOFFSETTO:+1300
TZNAME:NZDT
DTSTART:20240928T140000
END:DAYLIGHT
BEGIN:STANDARD
TZOFFSETFROM:+1300
TZOFFSETTO:+1200
TZNAME:NZST
DTSTART:20250405T140000
END:STANDARD
BEGIN:DAYLIGHT
TZOFFSETFROM:+1200
TZOFFSETTO:+1300
TZNAME:NZDT
DTSTART:20250927T140000
END:DAYLIGHT
END:VTIMEZONE
BEGIN:VEVENT
DTSTART;TZID=Pacific/Auckland:20240928T130000
DTEND;TZID=Pacific/Auckland:20240928T150000
DTSTAMP:20260426T091814
CREATED:20240901T082632Z
LAST-MODIFIED:20240901T082632Z
UID:10019654-1727528400-1727535600@letslearn.nz
SUMMARY:Immersion in a Deaf\, Deaf World
DESCRIPTION: Come and Immerse Yourself in a Deaf\, Deaf World! We’re excited to invite you to the Deaf Deaf World event on Saturday\, 28 September 2024! This is a fantastic opportunity for NZSL students\, supporters incl. teachers\, families of Deaf/hh children\, adults working with Deaf people\, and anyone eager to practice their signing skills.You’ll engage in ‘pretend’ shops and have meaningful conversations with NZSL teachers and users. It’s an experience not to be missed! When: Saturday\, 28 September 2024 Time: 1:00 pm – 3:00 pm (doors open at 12:45 pm) Where: Bethlehem Hall\, 239A State Highway 2Bethlehem\, Tauranga\, Bay of Plenty Cost: $5 admissionJoin us for a reversed experience and dive into the world of NZSL! We are looking forward to see you there!Supported by Merge NZ and Tauranga Deaf Society as part of the Festival of Adult Learning Ahurei Ākonga.
URL:https://letslearn.nz/event/immersion-in-a-deaf-deaf-world/
LOCATION:Bethlehem hall 239 SH 2\, Bethlehem\, Tauranga
CATEGORIES:Sign Language
ATTACH;FMTTYPE=image/jpeg:https://letslearn.nz/wp-content/uploads/2019/09/Sign-Language-e1567569597971.jpg
ORGANIZER;CN="Merge NZ":MAILTO:info@mergenz.co.nz​
END:VEVENT
END:VCALENDAR