BEGIN:VCALENDAR
VERSION:2.0
PRODID:-//Let&#039;s Learn - ECPv6.15.14//NONSGML v1.0//EN
CALSCALE:GREGORIAN
METHOD:PUBLISH
X-WR-CALNAME:Let&#039;s Learn
X-ORIGINAL-URL:https://letslearn.nz
X-WR-CALDESC:Events for Let&#039;s Learn
REFRESH-INTERVAL;VALUE=DURATION:PT1H
X-Robots-Tag:noindex
X-PUBLISHED-TTL:PT1H
BEGIN:VTIMEZONE
TZID:Pacific/Auckland
BEGIN:STANDARD
TZOFFSETFROM:+1300
TZOFFSETTO:+1200
TZNAME:NZST
DTSTART:20230401T140000
END:STANDARD
BEGIN:DAYLIGHT
TZOFFSETFROM:+1200
TZOFFSETTO:+1300
TZNAME:NZDT
DTSTART:20230923T140000
END:DAYLIGHT
BEGIN:STANDARD
TZOFFSETFROM:+1300
TZOFFSETTO:+1200
TZNAME:NZST
DTSTART:20240406T140000
END:STANDARD
BEGIN:DAYLIGHT
TZOFFSETFROM:+1200
TZOFFSETTO:+1300
TZNAME:NZDT
DTSTART:20240928T140000
END:DAYLIGHT
BEGIN:STANDARD
TZOFFSETFROM:+1300
TZOFFSETTO:+1200
TZNAME:NZST
DTSTART:20250405T140000
END:STANDARD
BEGIN:DAYLIGHT
TZOFFSETFROM:+1200
TZOFFSETTO:+1300
TZNAME:NZDT
DTSTART:20250927T140000
END:DAYLIGHT
END:VTIMEZONE
BEGIN:VEVENT
DTSTART;TZID=Pacific/Auckland:20241107T191500
DTEND;TZID=Pacific/Auckland:20241107T213000
DTSTAMP:20260418T165150
CREATED:20230208T232755Z
LAST-MODIFIED:20240809T001906Z
UID:10019342-1731006900-1731015000@letslearn.nz
SUMMARY:Model Railways
DESCRIPTION:Come down to the Model Railway Club for a look and a play.\nYou’ll find them upstairs on the corner of Cross Road and Mirrelies Road at Sulphur Point. All welcome. \nClub times are:\nTuesday mornings 9.30am to 12.30pm\nThursday evenings 7.15pm to 9.30pm \nEmail:  tmrcsecretary@gmail.com\nFacebook: https://www.facebook.com/TaurangaModelRailway/ \n 
URL:https://letslearn.nz/event/model-railways-duplicate-1-3-2/2024-11-07/
LOCATION:Cnr Cross Rd & Mirrelies Rd\, Sulphur Point\, Tauranga
CATEGORIES:Radio Controlled Models
ATTACH;FMTTYPE=image/jpeg:https://letslearn.nz/wp-content/uploads/2019/09/Model-railways.jpg
ORGANIZER;CN="Tauranga Model Railway Club":MAILTO:tmrcsecretary@gmail.com
END:VEVENT
BEGIN:VEVENT
DTSTART;TZID=Pacific/Auckland:20241105T093000
DTEND;TZID=Pacific/Auckland:20241105T123000
DTSTAMP:20260418T165150
CREATED:20221217T011409Z
LAST-MODIFIED:20240808T232737Z
UID:10019082-1730799000-1730809800@letslearn.nz
SUMMARY:Model Railways
DESCRIPTION:Come down to the Model Railway Club for a look and a play.\nYou’ll find them upstairs on the corner of Cross Road and Mirrelies Road at Sulphur Point. All welcome. \nClub times are:\nTuesday mornings 9.30am to 12.30pm\nThursday evenings 7.15pm to 9.30pm \nEmail: tmrcsecretary@gmail.com\nFacebook: https://www.facebook.com/TaurangaModelRailway/ \n 
URL:https://letslearn.nz/event/model-railways-duplicate-1-2/2024-11-05/
LOCATION:Cnr Cross Rd & Mirrelies Rd\, Sulphur Point\, Tauranga
CATEGORIES:Model vehicles & craft,Radio Controlled Models
ATTACH;FMTTYPE=image/jpeg:https://letslearn.nz/wp-content/uploads/2022/12/Blokes-Model-Trains-2021-1.jpg
ORGANIZER;CN="Tauranga Model Railway Club":MAILTO:tmrcsecretary@gmail.com
END:VEVENT
BEGIN:VEVENT
DTSTART;TZID=Pacific/Auckland:20241031T191500
DTEND;TZID=Pacific/Auckland:20241031T213000
DTSTAMP:20260418T165150
CREATED:20230208T232755Z
LAST-MODIFIED:20240809T001906Z
UID:10019341-1730402100-1730410200@letslearn.nz
SUMMARY:Model Railways
DESCRIPTION:Come down to the Model Railway Club for a look and a play.\nYou’ll find them upstairs on the corner of Cross Road and Mirrelies Road at Sulphur Point. All welcome. \nClub times are:\nTuesday mornings 9.30am to 12.30pm\nThursday evenings 7.15pm to 9.30pm \nEmail:  tmrcsecretary@gmail.com\nFacebook: https://www.facebook.com/TaurangaModelRailway/ \n 
URL:https://letslearn.nz/event/model-railways-duplicate-1-3-2/2024-10-31/
LOCATION:Cnr Cross Rd & Mirrelies Rd\, Sulphur Point\, Tauranga
CATEGORIES:Radio Controlled Models
ATTACH;FMTTYPE=image/jpeg:https://letslearn.nz/wp-content/uploads/2019/09/Model-railways.jpg
ORGANIZER;CN="Tauranga Model Railway Club":MAILTO:tmrcsecretary@gmail.com
END:VEVENT
BEGIN:VEVENT
DTSTART;TZID=Pacific/Auckland:20241029T093000
DTEND;TZID=Pacific/Auckland:20241029T123000
DTSTAMP:20260418T165150
CREATED:20221217T011409Z
LAST-MODIFIED:20240808T232737Z
UID:10019081-1730194200-1730205000@letslearn.nz
SUMMARY:Model Railways
DESCRIPTION:Come down to the Model Railway Club for a look and a play.\nYou’ll find them upstairs on the corner of Cross Road and Mirrelies Road at Sulphur Point. All welcome. \nClub times are:\nTuesday mornings 9.30am to 12.30pm\nThursday evenings 7.15pm to 9.30pm \nEmail: tmrcsecretary@gmail.com\nFacebook: https://www.facebook.com/TaurangaModelRailway/ \n 
URL:https://letslearn.nz/event/model-railways-duplicate-1-2/2024-10-29/
LOCATION:Cnr Cross Rd & Mirrelies Rd\, Sulphur Point\, Tauranga
CATEGORIES:Model vehicles & craft,Radio Controlled Models
ATTACH;FMTTYPE=image/jpeg:https://letslearn.nz/wp-content/uploads/2022/12/Blokes-Model-Trains-2021-1.jpg
ORGANIZER;CN="Tauranga Model Railway Club":MAILTO:tmrcsecretary@gmail.com
END:VEVENT
BEGIN:VEVENT
DTSTART;TZID=Pacific/Auckland:20241024T191500
DTEND;TZID=Pacific/Auckland:20241024T213000
DTSTAMP:20260418T165150
CREATED:20230208T232755Z
LAST-MODIFIED:20240809T001906Z
UID:10019340-1729797300-1729805400@letslearn.nz
SUMMARY:Model Railways
DESCRIPTION:Come down to the Model Railway Club for a look and a play.\nYou’ll find them upstairs on the corner of Cross Road and Mirrelies Road at Sulphur Point. All welcome. \nClub times are:\nTuesday mornings 9.30am to 12.30pm\nThursday evenings 7.15pm to 9.30pm \nEmail:  tmrcsecretary@gmail.com\nFacebook: https://www.facebook.com/TaurangaModelRailway/ \n 
URL:https://letslearn.nz/event/model-railways-duplicate-1-3-2/2024-10-24/
LOCATION:Cnr Cross Rd & Mirrelies Rd\, Sulphur Point\, Tauranga
CATEGORIES:Radio Controlled Models
ATTACH;FMTTYPE=image/jpeg:https://letslearn.nz/wp-content/uploads/2019/09/Model-railways.jpg
ORGANIZER;CN="Tauranga Model Railway Club":MAILTO:tmrcsecretary@gmail.com
END:VEVENT
BEGIN:VEVENT
DTSTART;TZID=Pacific/Auckland:20241022T093000
DTEND;TZID=Pacific/Auckland:20241022T123000
DTSTAMP:20260418T165150
CREATED:20221217T011409Z
LAST-MODIFIED:20240808T232737Z
UID:10019080-1729589400-1729600200@letslearn.nz
SUMMARY:Model Railways
DESCRIPTION:Come down to the Model Railway Club for a look and a play.\nYou’ll find them upstairs on the corner of Cross Road and Mirrelies Road at Sulphur Point. All welcome. \nClub times are:\nTuesday mornings 9.30am to 12.30pm\nThursday evenings 7.15pm to 9.30pm \nEmail: tmrcsecretary@gmail.com\nFacebook: https://www.facebook.com/TaurangaModelRailway/ \n 
URL:https://letslearn.nz/event/model-railways-duplicate-1-2/2024-10-22/
LOCATION:Cnr Cross Rd & Mirrelies Rd\, Sulphur Point\, Tauranga
CATEGORIES:Model vehicles & craft,Radio Controlled Models
ATTACH;FMTTYPE=image/jpeg:https://letslearn.nz/wp-content/uploads/2022/12/Blokes-Model-Trains-2021-1.jpg
ORGANIZER;CN="Tauranga Model Railway Club":MAILTO:tmrcsecretary@gmail.com
END:VEVENT
BEGIN:VEVENT
DTSTART;TZID=Pacific/Auckland:20241017T191500
DTEND;TZID=Pacific/Auckland:20241017T213000
DTSTAMP:20260418T165150
CREATED:20230208T232755Z
LAST-MODIFIED:20240809T001906Z
UID:10019339-1729192500-1729200600@letslearn.nz
SUMMARY:Model Railways
DESCRIPTION:Come down to the Model Railway Club for a look and a play.\nYou’ll find them upstairs on the corner of Cross Road and Mirrelies Road at Sulphur Point. All welcome. \nClub times are:\nTuesday mornings 9.30am to 12.30pm\nThursday evenings 7.15pm to 9.30pm \nEmail:  tmrcsecretary@gmail.com\nFacebook: https://www.facebook.com/TaurangaModelRailway/ \n 
URL:https://letslearn.nz/event/model-railways-duplicate-1-3-2/2024-10-17/
LOCATION:Cnr Cross Rd & Mirrelies Rd\, Sulphur Point\, Tauranga
CATEGORIES:Radio Controlled Models
ATTACH;FMTTYPE=image/jpeg:https://letslearn.nz/wp-content/uploads/2019/09/Model-railways.jpg
ORGANIZER;CN="Tauranga Model Railway Club":MAILTO:tmrcsecretary@gmail.com
END:VEVENT
BEGIN:VEVENT
DTSTART;TZID=Pacific/Auckland:20241015T093000
DTEND;TZID=Pacific/Auckland:20241015T123000
DTSTAMP:20260418T165150
CREATED:20221217T011409Z
LAST-MODIFIED:20240808T232737Z
UID:10019079-1728984600-1728995400@letslearn.nz
SUMMARY:Model Railways
DESCRIPTION:Come down to the Model Railway Club for a look and a play.\nYou’ll find them upstairs on the corner of Cross Road and Mirrelies Road at Sulphur Point. All welcome. \nClub times are:\nTuesday mornings 9.30am to 12.30pm\nThursday evenings 7.15pm to 9.30pm \nEmail: tmrcsecretary@gmail.com\nFacebook: https://www.facebook.com/TaurangaModelRailway/ \n 
URL:https://letslearn.nz/event/model-railways-duplicate-1-2/2024-10-15/
LOCATION:Cnr Cross Rd & Mirrelies Rd\, Sulphur Point\, Tauranga
CATEGORIES:Model vehicles & craft,Radio Controlled Models
ATTACH;FMTTYPE=image/jpeg:https://letslearn.nz/wp-content/uploads/2022/12/Blokes-Model-Trains-2021-1.jpg
ORGANIZER;CN="Tauranga Model Railway Club":MAILTO:tmrcsecretary@gmail.com
END:VEVENT
BEGIN:VEVENT
DTSTART;TZID=Pacific/Auckland:20241010T191500
DTEND;TZID=Pacific/Auckland:20241010T213000
DTSTAMP:20260418T165150
CREATED:20230208T232755Z
LAST-MODIFIED:20240809T001906Z
UID:10019338-1728587700-1728595800@letslearn.nz
SUMMARY:Model Railways
DESCRIPTION:Come down to the Model Railway Club for a look and a play.\nYou’ll find them upstairs on the corner of Cross Road and Mirrelies Road at Sulphur Point. All welcome. \nClub times are:\nTuesday mornings 9.30am to 12.30pm\nThursday evenings 7.15pm to 9.30pm \nEmail:  tmrcsecretary@gmail.com\nFacebook: https://www.facebook.com/TaurangaModelRailway/ \n 
URL:https://letslearn.nz/event/model-railways-duplicate-1-3-2/2024-10-10/
LOCATION:Cnr Cross Rd & Mirrelies Rd\, Sulphur Point\, Tauranga
CATEGORIES:Radio Controlled Models
ATTACH;FMTTYPE=image/jpeg:https://letslearn.nz/wp-content/uploads/2019/09/Model-railways.jpg
ORGANIZER;CN="Tauranga Model Railway Club":MAILTO:tmrcsecretary@gmail.com
END:VEVENT
BEGIN:VEVENT
DTSTART;TZID=Pacific/Auckland:20241008T093000
DTEND;TZID=Pacific/Auckland:20241008T123000
DTSTAMP:20260418T165150
CREATED:20221217T011409Z
LAST-MODIFIED:20240808T232737Z
UID:10019078-1728379800-1728390600@letslearn.nz
SUMMARY:Model Railways
DESCRIPTION:Come down to the Model Railway Club for a look and a play.\nYou’ll find them upstairs on the corner of Cross Road and Mirrelies Road at Sulphur Point. All welcome. \nClub times are:\nTuesday mornings 9.30am to 12.30pm\nThursday evenings 7.15pm to 9.30pm \nEmail: tmrcsecretary@gmail.com\nFacebook: https://www.facebook.com/TaurangaModelRailway/ \n 
URL:https://letslearn.nz/event/model-railways-duplicate-1-2/2024-10-08/
LOCATION:Cnr Cross Rd & Mirrelies Rd\, Sulphur Point\, Tauranga
CATEGORIES:Model vehicles & craft,Radio Controlled Models
ATTACH;FMTTYPE=image/jpeg:https://letslearn.nz/wp-content/uploads/2022/12/Blokes-Model-Trains-2021-1.jpg
ORGANIZER;CN="Tauranga Model Railway Club":MAILTO:tmrcsecretary@gmail.com
END:VEVENT
BEGIN:VEVENT
DTSTART;TZID=Pacific/Auckland:20241003T191500
DTEND;TZID=Pacific/Auckland:20241003T213000
DTSTAMP:20260418T165150
CREATED:20230208T232755Z
LAST-MODIFIED:20240809T001906Z
UID:10019337-1727982900-1727991000@letslearn.nz
SUMMARY:Model Railways
DESCRIPTION:Come down to the Model Railway Club for a look and a play.\nYou’ll find them upstairs on the corner of Cross Road and Mirrelies Road at Sulphur Point. All welcome. \nClub times are:\nTuesday mornings 9.30am to 12.30pm\nThursday evenings 7.15pm to 9.30pm \nEmail:  tmrcsecretary@gmail.com\nFacebook: https://www.facebook.com/TaurangaModelRailway/ \n 
URL:https://letslearn.nz/event/model-railways-duplicate-1-3-2/2024-10-03/
LOCATION:Cnr Cross Rd & Mirrelies Rd\, Sulphur Point\, Tauranga
CATEGORIES:Radio Controlled Models
ATTACH;FMTTYPE=image/jpeg:https://letslearn.nz/wp-content/uploads/2019/09/Model-railways.jpg
ORGANIZER;CN="Tauranga Model Railway Club":MAILTO:tmrcsecretary@gmail.com
END:VEVENT
BEGIN:VEVENT
DTSTART;TZID=Pacific/Auckland:20241001T093000
DTEND;TZID=Pacific/Auckland:20241001T123000
DTSTAMP:20260418T165150
CREATED:20221217T011409Z
LAST-MODIFIED:20240808T232737Z
UID:10019077-1727775000-1727785800@letslearn.nz
SUMMARY:Model Railways
DESCRIPTION:Come down to the Model Railway Club for a look and a play.\nYou’ll find them upstairs on the corner of Cross Road and Mirrelies Road at Sulphur Point. All welcome. \nClub times are:\nTuesday mornings 9.30am to 12.30pm\nThursday evenings 7.15pm to 9.30pm \nEmail: tmrcsecretary@gmail.com\nFacebook: https://www.facebook.com/TaurangaModelRailway/ \n 
URL:https://letslearn.nz/event/model-railways-duplicate-1-2/2024-10-01/
LOCATION:Cnr Cross Rd & Mirrelies Rd\, Sulphur Point\, Tauranga
CATEGORIES:Model vehicles & craft,Radio Controlled Models
ATTACH;FMTTYPE=image/jpeg:https://letslearn.nz/wp-content/uploads/2022/12/Blokes-Model-Trains-2021-1.jpg
ORGANIZER;CN="Tauranga Model Railway Club":MAILTO:tmrcsecretary@gmail.com
END:VEVENT
BEGIN:VEVENT
DTSTART;TZID=Pacific/Auckland:20240926T191500
DTEND;TZID=Pacific/Auckland:20240926T213000
DTSTAMP:20260418T165150
CREATED:20230208T232755Z
LAST-MODIFIED:20240809T001906Z
UID:10019336-1727378100-1727386200@letslearn.nz
SUMMARY:Model Railways
DESCRIPTION:Come down to the Model Railway Club for a look and a play.\nYou’ll find them upstairs on the corner of Cross Road and Mirrelies Road at Sulphur Point. All welcome. \nClub times are:\nTuesday mornings 9.30am to 12.30pm\nThursday evenings 7.15pm to 9.30pm \nEmail:  tmrcsecretary@gmail.com\nFacebook: https://www.facebook.com/TaurangaModelRailway/ \n 
URL:https://letslearn.nz/event/model-railways-duplicate-1-3-2/2024-09-26/
LOCATION:Cnr Cross Rd & Mirrelies Rd\, Sulphur Point\, Tauranga
CATEGORIES:Radio Controlled Models
ATTACH;FMTTYPE=image/jpeg:https://letslearn.nz/wp-content/uploads/2019/09/Model-railways.jpg
ORGANIZER;CN="Tauranga Model Railway Club":MAILTO:tmrcsecretary@gmail.com
END:VEVENT
BEGIN:VEVENT
DTSTART;TZID=Pacific/Auckland:20240924T093000
DTEND;TZID=Pacific/Auckland:20240924T123000
DTSTAMP:20260418T165150
CREATED:20221217T011409Z
LAST-MODIFIED:20240808T232737Z
UID:10019076-1727170200-1727181000@letslearn.nz
SUMMARY:Model Railways
DESCRIPTION:Come down to the Model Railway Club for a look and a play.\nYou’ll find them upstairs on the corner of Cross Road and Mirrelies Road at Sulphur Point. All welcome. \nClub times are:\nTuesday mornings 9.30am to 12.30pm\nThursday evenings 7.15pm to 9.30pm \nEmail: tmrcsecretary@gmail.com\nFacebook: https://www.facebook.com/TaurangaModelRailway/ \n 
URL:https://letslearn.nz/event/model-railways-duplicate-1-2/2024-09-24/
LOCATION:Cnr Cross Rd & Mirrelies Rd\, Sulphur Point\, Tauranga
CATEGORIES:Model vehicles & craft,Radio Controlled Models
ATTACH;FMTTYPE=image/jpeg:https://letslearn.nz/wp-content/uploads/2022/12/Blokes-Model-Trains-2021-1.jpg
ORGANIZER;CN="Tauranga Model Railway Club":MAILTO:tmrcsecretary@gmail.com
END:VEVENT
BEGIN:VEVENT
DTSTART;TZID=Pacific/Auckland:20240919T191500
DTEND;TZID=Pacific/Auckland:20240919T213000
DTSTAMP:20260418T165150
CREATED:20230208T232755Z
LAST-MODIFIED:20240809T001906Z
UID:10019335-1726773300-1726781400@letslearn.nz
SUMMARY:Model Railways
DESCRIPTION:Come down to the Model Railway Club for a look and a play.\nYou’ll find them upstairs on the corner of Cross Road and Mirrelies Road at Sulphur Point. All welcome. \nClub times are:\nTuesday mornings 9.30am to 12.30pm\nThursday evenings 7.15pm to 9.30pm \nEmail:  tmrcsecretary@gmail.com\nFacebook: https://www.facebook.com/TaurangaModelRailway/ \n 
URL:https://letslearn.nz/event/model-railways-duplicate-1-3-2/2024-09-19/
LOCATION:Cnr Cross Rd & Mirrelies Rd\, Sulphur Point\, Tauranga
CATEGORIES:Radio Controlled Models
ATTACH;FMTTYPE=image/jpeg:https://letslearn.nz/wp-content/uploads/2019/09/Model-railways.jpg
ORGANIZER;CN="Tauranga Model Railway Club":MAILTO:tmrcsecretary@gmail.com
END:VEVENT
BEGIN:VEVENT
DTSTART;TZID=Pacific/Auckland:20240917T093000
DTEND;TZID=Pacific/Auckland:20240917T123000
DTSTAMP:20260418T165150
CREATED:20221217T011409Z
LAST-MODIFIED:20240808T232737Z
UID:10019075-1726565400-1726576200@letslearn.nz
SUMMARY:Model Railways
DESCRIPTION:Come down to the Model Railway Club for a look and a play.\nYou’ll find them upstairs on the corner of Cross Road and Mirrelies Road at Sulphur Point. All welcome. \nClub times are:\nTuesday mornings 9.30am to 12.30pm\nThursday evenings 7.15pm to 9.30pm \nEmail: tmrcsecretary@gmail.com\nFacebook: https://www.facebook.com/TaurangaModelRailway/ \n 
URL:https://letslearn.nz/event/model-railways-duplicate-1-2/2024-09-17/
LOCATION:Cnr Cross Rd & Mirrelies Rd\, Sulphur Point\, Tauranga
CATEGORIES:Model vehicles & craft,Radio Controlled Models
ATTACH;FMTTYPE=image/jpeg:https://letslearn.nz/wp-content/uploads/2022/12/Blokes-Model-Trains-2021-1.jpg
ORGANIZER;CN="Tauranga Model Railway Club":MAILTO:tmrcsecretary@gmail.com
END:VEVENT
BEGIN:VEVENT
DTSTART;TZID=Pacific/Auckland:20240912T191500
DTEND;TZID=Pacific/Auckland:20240912T213000
DTSTAMP:20260418T165150
CREATED:20230208T232755Z
LAST-MODIFIED:20240809T001906Z
UID:10019334-1726168500-1726176600@letslearn.nz
SUMMARY:Model Railways
DESCRIPTION:Come down to the Model Railway Club for a look and a play.\nYou’ll find them upstairs on the corner of Cross Road and Mirrelies Road at Sulphur Point. All welcome. \nClub times are:\nTuesday mornings 9.30am to 12.30pm\nThursday evenings 7.15pm to 9.30pm \nEmail:  tmrcsecretary@gmail.com\nFacebook: https://www.facebook.com/TaurangaModelRailway/ \n 
URL:https://letslearn.nz/event/model-railways-duplicate-1-3-2/2024-09-12/
LOCATION:Cnr Cross Rd & Mirrelies Rd\, Sulphur Point\, Tauranga
CATEGORIES:Radio Controlled Models
ATTACH;FMTTYPE=image/jpeg:https://letslearn.nz/wp-content/uploads/2019/09/Model-railways.jpg
ORGANIZER;CN="Tauranga Model Railway Club":MAILTO:tmrcsecretary@gmail.com
END:VEVENT
BEGIN:VEVENT
DTSTART;TZID=Pacific/Auckland:20240910T093000
DTEND;TZID=Pacific/Auckland:20240910T123000
DTSTAMP:20260418T165150
CREATED:20221217T011409Z
LAST-MODIFIED:20240808T232737Z
UID:10019074-1725960600-1725971400@letslearn.nz
SUMMARY:Model Railways
DESCRIPTION:Come down to the Model Railway Club for a look and a play.\nYou’ll find them upstairs on the corner of Cross Road and Mirrelies Road at Sulphur Point. All welcome. \nClub times are:\nTuesday mornings 9.30am to 12.30pm\nThursday evenings 7.15pm to 9.30pm \nEmail: tmrcsecretary@gmail.com\nFacebook: https://www.facebook.com/TaurangaModelRailway/ \n 
URL:https://letslearn.nz/event/model-railways-duplicate-1-2/2024-09-10/
LOCATION:Cnr Cross Rd & Mirrelies Rd\, Sulphur Point\, Tauranga
CATEGORIES:Model vehicles & craft,Radio Controlled Models
ATTACH;FMTTYPE=image/jpeg:https://letslearn.nz/wp-content/uploads/2022/12/Blokes-Model-Trains-2021-1.jpg
ORGANIZER;CN="Tauranga Model Railway Club":MAILTO:tmrcsecretary@gmail.com
END:VEVENT
BEGIN:VEVENT
DTSTART;TZID=Pacific/Auckland:20240905T191500
DTEND;TZID=Pacific/Auckland:20240905T213000
DTSTAMP:20260418T165150
CREATED:20230208T232755Z
LAST-MODIFIED:20240809T001906Z
UID:10019333-1725563700-1725571800@letslearn.nz
SUMMARY:Model Railways
DESCRIPTION:Come down to the Model Railway Club for a look and a play.\nYou’ll find them upstairs on the corner of Cross Road and Mirrelies Road at Sulphur Point. All welcome. \nClub times are:\nTuesday mornings 9.30am to 12.30pm\nThursday evenings 7.15pm to 9.30pm \nEmail:  tmrcsecretary@gmail.com\nFacebook: https://www.facebook.com/TaurangaModelRailway/ \n 
URL:https://letslearn.nz/event/model-railways-duplicate-1-3-2/2024-09-05/
LOCATION:Cnr Cross Rd & Mirrelies Rd\, Sulphur Point\, Tauranga
CATEGORIES:Radio Controlled Models
ATTACH;FMTTYPE=image/jpeg:https://letslearn.nz/wp-content/uploads/2019/09/Model-railways.jpg
ORGANIZER;CN="Tauranga Model Railway Club":MAILTO:tmrcsecretary@gmail.com
END:VEVENT
BEGIN:VEVENT
DTSTART;TZID=Pacific/Auckland:20240903T093000
DTEND;TZID=Pacific/Auckland:20240903T123000
DTSTAMP:20260418T165150
CREATED:20221217T011409Z
LAST-MODIFIED:20240808T232737Z
UID:10019073-1725355800-1725366600@letslearn.nz
SUMMARY:Model Railways
DESCRIPTION:Come down to the Model Railway Club for a look and a play.\nYou’ll find them upstairs on the corner of Cross Road and Mirrelies Road at Sulphur Point. All welcome. \nClub times are:\nTuesday mornings 9.30am to 12.30pm\nThursday evenings 7.15pm to 9.30pm \nEmail: tmrcsecretary@gmail.com\nFacebook: https://www.facebook.com/TaurangaModelRailway/ \n 
URL:https://letslearn.nz/event/model-railways-duplicate-1-2/2024-09-03/
LOCATION:Cnr Cross Rd & Mirrelies Rd\, Sulphur Point\, Tauranga
CATEGORIES:Model vehicles & craft,Radio Controlled Models
ATTACH;FMTTYPE=image/jpeg:https://letslearn.nz/wp-content/uploads/2022/12/Blokes-Model-Trains-2021-1.jpg
ORGANIZER;CN="Tauranga Model Railway Club":MAILTO:tmrcsecretary@gmail.com
END:VEVENT
BEGIN:VEVENT
DTSTART;TZID=Pacific/Auckland:20240829T191500
DTEND;TZID=Pacific/Auckland:20240829T213000
DTSTAMP:20260418T165150
CREATED:20230208T232755Z
LAST-MODIFIED:20240809T001906Z
UID:10019332-1724958900-1724967000@letslearn.nz
SUMMARY:Model Railways
DESCRIPTION:Come down to the Model Railway Club for a look and a play.\nYou’ll find them upstairs on the corner of Cross Road and Mirrelies Road at Sulphur Point. All welcome. \nClub times are:\nTuesday mornings 9.30am to 12.30pm\nThursday evenings 7.15pm to 9.30pm \nEmail:  tmrcsecretary@gmail.com\nFacebook: https://www.facebook.com/TaurangaModelRailway/ \n 
URL:https://letslearn.nz/event/model-railways-duplicate-1-3-2/2024-08-29/
LOCATION:Cnr Cross Rd & Mirrelies Rd\, Sulphur Point\, Tauranga
CATEGORIES:Radio Controlled Models
ATTACH;FMTTYPE=image/jpeg:https://letslearn.nz/wp-content/uploads/2019/09/Model-railways.jpg
ORGANIZER;CN="Tauranga Model Railway Club":MAILTO:tmrcsecretary@gmail.com
END:VEVENT
BEGIN:VEVENT
DTSTART;TZID=Pacific/Auckland:20240827T093000
DTEND;TZID=Pacific/Auckland:20240827T123000
DTSTAMP:20260418T165150
CREATED:20221217T011409Z
LAST-MODIFIED:20240808T232737Z
UID:10019072-1724751000-1724761800@letslearn.nz
SUMMARY:Model Railways
DESCRIPTION:Come down to the Model Railway Club for a look and a play.\nYou’ll find them upstairs on the corner of Cross Road and Mirrelies Road at Sulphur Point. All welcome. \nClub times are:\nTuesday mornings 9.30am to 12.30pm\nThursday evenings 7.15pm to 9.30pm \nEmail: tmrcsecretary@gmail.com\nFacebook: https://www.facebook.com/TaurangaModelRailway/ \n 
URL:https://letslearn.nz/event/model-railways-duplicate-1-2/2024-08-27/
LOCATION:Cnr Cross Rd & Mirrelies Rd\, Sulphur Point\, Tauranga
CATEGORIES:Model vehicles & craft,Radio Controlled Models
ATTACH;FMTTYPE=image/jpeg:https://letslearn.nz/wp-content/uploads/2022/12/Blokes-Model-Trains-2021-1.jpg
ORGANIZER;CN="Tauranga Model Railway Club":MAILTO:tmrcsecretary@gmail.com
END:VEVENT
BEGIN:VEVENT
DTSTART;TZID=Pacific/Auckland:20240822T191500
DTEND;TZID=Pacific/Auckland:20240822T213000
DTSTAMP:20260418T165150
CREATED:20230208T232755Z
LAST-MODIFIED:20240809T001906Z
UID:10019331-1724354100-1724362200@letslearn.nz
SUMMARY:Model Railways
DESCRIPTION:Come down to the Model Railway Club for a look and a play.\nYou’ll find them upstairs on the corner of Cross Road and Mirrelies Road at Sulphur Point. All welcome. \nClub times are:\nTuesday mornings 9.30am to 12.30pm\nThursday evenings 7.15pm to 9.30pm \nEmail:  tmrcsecretary@gmail.com\nFacebook: https://www.facebook.com/TaurangaModelRailway/ \n 
URL:https://letslearn.nz/event/model-railways-duplicate-1-3-2/2024-08-22/
LOCATION:Cnr Cross Rd & Mirrelies Rd\, Sulphur Point\, Tauranga
CATEGORIES:Radio Controlled Models
ATTACH;FMTTYPE=image/jpeg:https://letslearn.nz/wp-content/uploads/2019/09/Model-railways.jpg
ORGANIZER;CN="Tauranga Model Railway Club":MAILTO:tmrcsecretary@gmail.com
END:VEVENT
BEGIN:VEVENT
DTSTART;TZID=Pacific/Auckland:20240820T093000
DTEND;TZID=Pacific/Auckland:20240820T123000
DTSTAMP:20260418T165150
CREATED:20221217T011409Z
LAST-MODIFIED:20240808T232737Z
UID:10019071-1724146200-1724157000@letslearn.nz
SUMMARY:Model Railways
DESCRIPTION:Come down to the Model Railway Club for a look and a play.\nYou’ll find them upstairs on the corner of Cross Road and Mirrelies Road at Sulphur Point. All welcome. \nClub times are:\nTuesday mornings 9.30am to 12.30pm\nThursday evenings 7.15pm to 9.30pm \nEmail: tmrcsecretary@gmail.com\nFacebook: https://www.facebook.com/TaurangaModelRailway/ \n 
URL:https://letslearn.nz/event/model-railways-duplicate-1-2/2024-08-20/
LOCATION:Cnr Cross Rd & Mirrelies Rd\, Sulphur Point\, Tauranga
CATEGORIES:Model vehicles & craft,Radio Controlled Models
ATTACH;FMTTYPE=image/jpeg:https://letslearn.nz/wp-content/uploads/2022/12/Blokes-Model-Trains-2021-1.jpg
ORGANIZER;CN="Tauranga Model Railway Club":MAILTO:tmrcsecretary@gmail.com
END:VEVENT
BEGIN:VEVENT
DTSTART;TZID=Pacific/Auckland:20240815T191500
DTEND;TZID=Pacific/Auckland:20240815T213000
DTSTAMP:20260418T165150
CREATED:20230208T232755Z
LAST-MODIFIED:20240809T001906Z
UID:10018809-1723749300-1723757400@letslearn.nz
SUMMARY:Model Railways
DESCRIPTION:Come down to the Model Railway Club for a look and a play.\nYou’ll find them upstairs on the corner of Cross Road and Mirrelies Road at Sulphur Point. All welcome. \nClub times are:\nTuesday mornings 9.30am to 12.30pm\nThursday evenings 7.15pm to 9.30pm \nEmail:  tmrcsecretary@gmail.com\nFacebook: https://www.facebook.com/TaurangaModelRailway/ \n 
URL:https://letslearn.nz/event/model-railways-duplicate-1-3-2/2024-08-15/
LOCATION:Cnr Cross Rd & Mirrelies Rd\, Sulphur Point\, Tauranga
CATEGORIES:Radio Controlled Models
ATTACH;FMTTYPE=image/jpeg:https://letslearn.nz/wp-content/uploads/2019/09/Model-railways.jpg
ORGANIZER;CN="Tauranga Model Railway Club":MAILTO:tmrcsecretary@gmail.com
END:VEVENT
BEGIN:VEVENT
DTSTART;TZID=Pacific/Auckland:20240813T093000
DTEND;TZID=Pacific/Auckland:20240813T123000
DTSTAMP:20260418T165150
CREATED:20221217T011409Z
LAST-MODIFIED:20240808T232737Z
UID:10019070-1723541400-1723552200@letslearn.nz
SUMMARY:Model Railways
DESCRIPTION:Come down to the Model Railway Club for a look and a play.\nYou’ll find them upstairs on the corner of Cross Road and Mirrelies Road at Sulphur Point. All welcome. \nClub times are:\nTuesday mornings 9.30am to 12.30pm\nThursday evenings 7.15pm to 9.30pm \nEmail: tmrcsecretary@gmail.com\nFacebook: https://www.facebook.com/TaurangaModelRailway/ \n 
URL:https://letslearn.nz/event/model-railways-duplicate-1-2/2024-08-13/
LOCATION:Cnr Cross Rd & Mirrelies Rd\, Sulphur Point\, Tauranga
CATEGORIES:Model vehicles & craft,Radio Controlled Models
ATTACH;FMTTYPE=image/jpeg:https://letslearn.nz/wp-content/uploads/2022/12/Blokes-Model-Trains-2021-1.jpg
ORGANIZER;CN="Tauranga Model Railway Club":MAILTO:tmrcsecretary@gmail.com
END:VEVENT
END:VCALENDAR