BEGIN:VCALENDAR
VERSION:2.0
PRODID:-//Let&#039;s Learn - ECPv6.15.14//NONSGML v1.0//EN
CALSCALE:GREGORIAN
METHOD:PUBLISH
X-WR-CALNAME:Let&#039;s Learn
X-ORIGINAL-URL:https://letslearn.nz
X-WR-CALDESC:Events for Let&#039;s Learn
REFRESH-INTERVAL;VALUE=DURATION:PT1H
X-Robots-Tag:noindex
X-PUBLISHED-TTL:PT1H
BEGIN:VTIMEZONE
TZID:Pacific/Auckland
BEGIN:STANDARD
TZOFFSETFROM:+1300
TZOFFSETTO:+1200
TZNAME:NZST
DTSTART:20180331T140000
END:STANDARD
BEGIN:DAYLIGHT
TZOFFSETFROM:+1200
TZOFFSETTO:+1300
TZNAME:NZDT
DTSTART:20180929T140000
END:DAYLIGHT
BEGIN:STANDARD
TZOFFSETFROM:+1300
TZOFFSETTO:+1200
TZNAME:NZST
DTSTART:20190406T140000
END:STANDARD
BEGIN:DAYLIGHT
TZOFFSETFROM:+1200
TZOFFSETTO:+1300
TZNAME:NZDT
DTSTART:20190928T140000
END:DAYLIGHT
BEGIN:STANDARD
TZOFFSETFROM:+1300
TZOFFSETTO:+1200
TZNAME:NZST
DTSTART:20200404T140000
END:STANDARD
BEGIN:DAYLIGHT
TZOFFSETFROM:+1200
TZOFFSETTO:+1300
TZNAME:NZDT
DTSTART:20200926T140000
END:DAYLIGHT
BEGIN:STANDARD
TZOFFSETFROM:+1300
TZOFFSETTO:+1200
TZNAME:NZST
DTSTART:20210403T140000
END:STANDARD
BEGIN:DAYLIGHT
TZOFFSETFROM:+1200
TZOFFSETTO:+1300
TZNAME:NZDT
DTSTART:20210925T140000
END:DAYLIGHT
END:VTIMEZONE
BEGIN:VEVENT
DTSTART;TZID=Pacific/Auckland:20200321T123000
DTEND;TZID=Pacific/Auckland:20200321T160000
DTSTAMP:20260420T152950
CREATED:20200317T143643Z
LAST-MODIFIED:20200317T144255Z
UID:10003198-1584793800-1584806400@letslearn.nz
SUMMARY:Eco Fashion Workshop - the draped dress
DESCRIPTION:Upcycling workshop.  Learn how to create a designer dress that you will love to wear.  You will need to bring some required resources so please email to register your interest and obtain the resource list. \nEmail: deblaraman@gmail.com \nWebsite: www.keepworthy.co.nz \nDate: Saturday 21st March 12.30pm – 4pm\nVenue: The School House\, Historic Village\, Tauranga \nCost:  $65 \nThis event is part of Envirohub’s Sustainable Backyards 2020.
URL:https://letslearn.nz/event/eco-fashion-workshop-the-draped-dress/
LOCATION:Historic Village\, 17th Ave\, West\, Tauranga\, Bay Of Plenty\, 3110\, New Zealand
CATEGORIES:Eco-Friendly,Fabric & Fibre
ATTACH;FMTTYPE=image/jpeg:https://letslearn.nz/wp-content/uploads/2020/03/Envirohub-Upcycling.jpg
ORGANIZER;CN="Keep Worthy":MAILTO:deblaraman@gmail.com
END:VEVENT
BEGIN:VEVENT
DTSTART;TZID=Pacific/Auckland:20200303T190000
DTEND;TZID=Pacific/Auckland:20200303T200000
DTSTAMP:20260420T152950
CREATED:20200301T030624Z
LAST-MODIFIED:20211103T023026Z
UID:10004273-1583262000-1583265600@letslearn.nz
SUMMARY:Fools & Dreamers: Regenerating Native Forest
DESCRIPTION:When\, in 1987\, Hugh Wilson\, a botanist at Hinewai Reserve\, introduced ‘weed’ gorse to grow as a nurse canopy to regenerate farmland into native forest people were not only skeptical but outright angry.\nNow considered a hero locally and across the country\, Hugh oversees 1500 hectares resplendent in native forest\, where birds and other wildlife are abundant and 47 known waterfalls are in permanent flow. He has proven without doubt that nature knows best – and that he is no fool.\nAfterwards\, directors\, Antoinette Wilson and Jordon Osmond\, will speak to the themes of the film and give a bit of background knowledge about the initiative before a Q&A session. \nWhere: Historic Village\, Tauranga\nWhen: Tuesday March 3rd 2020 \nCost: $10 and booking fee \nGet Tickets HERE \nThis event is part of Envirohub’s Sustainable Backyards 2020.
URL:https://letslearn.nz/event/fools-dreamers-regenerating-native-forest/
LOCATION:Historic Village\, 17th Ave\, West\, Tauranga\, Bay Of Plenty\, 3110\, New Zealand
CATEGORIES:Eco-Friendly,Talks
ATTACH;FMTTYPE=image/jpeg:https://letslearn.nz/wp-content/uploads/2020/03/Enviro-Bop-Sus-BY-Regenerating-forest.jpg
END:VEVENT
BEGIN:VEVENT
DTSTART;TZID=Pacific/Auckland:20191025T160000
DTEND;TZID=Pacific/Auckland:20191025T220000
DTSTAMP:20260420T152950
CREATED:20190923T025938Z
LAST-MODIFIED:20191016T225432Z
UID:10002976-1572019200-1572040800@letslearn.nz
SUMMARY:Diwali Festival
DESCRIPTION:The festival is being held on Friday October 25\, from 4pm to 10pm\, with performances from the Bay of Plenty Indian community as well as traditional food and interactive family fun for all to enjoy. \nThe Historic Village will come to life with colourful light\, the sights and sounds of Bharatanatyam\, Bollywood and Punjabi dancing and the delicious tastes and aromas of traditional vegetarian delights and Indian street food. \nHighlights of the festival include performances from the Soornapur Dance group\, the energetic Bay of Plenty Bhangra Dance group\, the young and talented Masti Dance group\, and dynamic and graceful Arya from Tauranga. \nThese acts will also be supported by the Te Puke Women’s Dance group and Te Puke Fairhaven Indian Dance group. \nThe event will be interactive with opportunities for all the family to get involved with dance workshops\, beautiful henna and face painting\, and enriching Vedic storytelling as well as painting traditional Diyas which will be lit to decorate the festival venue. \nIn keeping with the family theme\, the event will be drug and alcohol free with a strong sustainability theme and the food village using only compostable plates and cutlery.
URL:https://letslearn.nz/event/diwali-festival/
LOCATION:Historic Village\, 17th Ave\, West\, Tauranga\, Bay Of Plenty\, 3110\, New Zealand
CATEGORIES:Community Groups,Dance,Food,Free,Languages
END:VEVENT
BEGIN:VEVENT
DTSTART;TZID=Pacific/Auckland:20190911T190000
DTEND;TZID=Pacific/Auckland:20190911T203000
DTSTAMP:20260420T152950
CREATED:20190821T020540Z
LAST-MODIFIED:20190822T070156Z
UID:10002902-1568228400-1568233800@letslearn.nz
SUMMARY:African Drumming
DESCRIPTION:African Drumming\n\n\n\n\nBeginners Welcome. | Drums Provided\nFirst session free but you need to register so there are enough drums.\nFreshly back from their tour of New Zealand\, come and share some of the gems gathered from Nathan’s time studying with the Griots (traditional holders of musical knowledge) in Africa. \nThis course will also feature some special segments from guest teacher William Dinwoodie\, a local player with a lifetime of learning\, and over a year spent in Africa learning with the masters. \nYou will start with the very basics\, and over the 6 weeks\, build to playing as a full African percussion ensemble in a fun\, social\, supportive environment.  Drums are supplied.
URL:https://letslearn.nz/event/african-drumming/
LOCATION:Historic Village\, 17th Ave\, West\, Tauranga\, Bay Of Plenty\, 3110\, New Zealand
CATEGORIES:Music,Social
ORGANIZER;CN="Nathan":MAILTO:nbregmen@gmail.com
END:VEVENT
BEGIN:VEVENT
DTSTART;TZID=Pacific/Auckland:20190910T180000
DTEND;TZID=Pacific/Auckland:20190910T180000
DTSTAMP:20260420T152950
CREATED:20190826T222917Z
LAST-MODIFIED:20211103T044242Z
UID:10002934-1568138400-1568138400@letslearn.nz
SUMMARY:Gems and Minerals
DESCRIPTION:First find your rock. \nThe Gem & Mineral has regular field trips searching for interesting rocks and stones. \nThen it’s time to work\, polish and carve the findings. \nThe club invites you along to this Tuesday’s workshop evening where you can watch members in action. \n \nThe Gem & Mineral Club is also home to a mineral museum featuring a comprehensive display of New Zealand and overseas rocks and minerals. The fluorescent room has a display of rocks that glow in the dark\, it’s a source of wonder to all those who see it!
URL:https://letslearn.nz/event/gems-and-minerals/
LOCATION:Historic Village\, 17th Ave\, West\, Tauranga\, Bay Of Plenty\, 3110\, New Zealand
CATEGORIES:Bloke Stuff,Clubs,Crafts,Gems & Minerals
ORGANIZER;CN="Gem & Minerals":MAILTO:sec.tgmc@hotmail.com
END:VEVENT
BEGIN:VEVENT
DTSTART;TZID=Pacific/Auckland:20190901T093000
DTEND;TZID=Pacific/Auckland:20190901T130000
DTSTAMP:20260420T152950
CREATED:20190820T043855Z
LAST-MODIFIED:20190822T235743Z
UID:10003357-1567330200-1567342800@letslearn.nz
SUMMARY:Glass Art Demo
DESCRIPTION:Our studio will be open for people to come in and see what we do and teach. \nWe will have a demonstration running throughout the day of Glass Cutting\, Stained Glass and Fused Glass and will take people through what they can expect from our workshops. \nStained glass is the age old craft of cutting glass into shapes and then joining them to make windows\, lampshades\, mirrors and much more. In this course taster we will demo some types of glass work. If you decide to join our classes and workshops they are run on a friendly and informal basis where you will learn the practical skills to complete a project and have fun doing it!
URL:https://letslearn.nz/event/glass-art-demo/
LOCATION:Historic Village\, 17th Ave\, West\, Tauranga\, Bay Of Plenty\, 3110\, New Zealand
CATEGORIES:Glass Art
ORGANIZER;CN="Leadlight Steve or Lynn":MAILTO:leadlightexpressions@gmail.com
END:VEVENT
END:VCALENDAR