BEGIN:VCALENDAR
VERSION:2.0
PRODID:-//Let&#039;s Learn - ECPv6.15.14//NONSGML v1.0//EN
CALSCALE:GREGORIAN
METHOD:PUBLISH
X-ORIGINAL-URL:https://letslearn.nz
X-WR-CALDESC:Events for Let&#039;s Learn
REFRESH-INTERVAL;VALUE=DURATION:PT1H
X-Robots-Tag:noindex
X-PUBLISHED-TTL:PT1H
BEGIN:VTIMEZONE
TZID:Pacific/Auckland
BEGIN:STANDARD
TZOFFSETFROM:+1300
TZOFFSETTO:+1200
TZNAME:NZST
DTSTART:20210403T140000
END:STANDARD
BEGIN:DAYLIGHT
TZOFFSETFROM:+1200
TZOFFSETTO:+1300
TZNAME:NZDT
DTSTART:20210925T140000
END:DAYLIGHT
BEGIN:STANDARD
TZOFFSETFROM:+1300
TZOFFSETTO:+1200
TZNAME:NZST
DTSTART:20220402T140000
END:STANDARD
BEGIN:DAYLIGHT
TZOFFSETFROM:+1200
TZOFFSETTO:+1300
TZNAME:NZDT
DTSTART:20220924T140000
END:DAYLIGHT
BEGIN:STANDARD
TZOFFSETFROM:+1300
TZOFFSETTO:+1200
TZNAME:NZST
DTSTART:20230401T140000
END:STANDARD
BEGIN:DAYLIGHT
TZOFFSETFROM:+1200
TZOFFSETTO:+1300
TZNAME:NZDT
DTSTART:20230923T140000
END:DAYLIGHT
END:VTIMEZONE
BEGIN:VEVENT
DTSTART;TZID=Pacific/Auckland:20220129T100000
DTEND;TZID=Pacific/Auckland:20220129T153000
DTSTAMP:20260416T123430
CREATED:20220105T040420Z
LAST-MODIFIED:20220105T040617Z
UID:10005030-1643450400-1643470200@letslearn.nz
SUMMARY:Grow Your Own Mushrooms Workshop
DESCRIPTION:Entry level workshop !\nThis will give you 5 hours tuition with Billy Mushroom on how to grow mushrooms on logs\, straw and info garden beds. You’ll also learn about fungi’ s role in nature\, some basic terminology and how fungi can be used to mitigate pollution on the planet. \nDates  & times to be confirmed :\nEnd of Jan\, Feb & March\nContact:  Billy Roy \nPhone:  021 047  8628 or 552 4072 \nEmail:  maramasmushrooms@gmail.com \nFacebook: https://www.facebook.com/maramasmushrooms/\nWebsite: https://www.maramasmushrooms.nz/
URL:https://letslearn.nz/event/grow-your-own-mushrooms-workshop/
LOCATION:Marama Mushrooms\, Whakamarama Rd\, Tauranga
CATEGORIES:Mushroom Farming
ATTACH;FMTTYPE=image/jpeg:https://letslearn.nz/wp-content/uploads/2022/01/Garden-Billy-Mushrooms-1.jpg
ORGANIZER;CN="Marama Mushrooms":MAILTO:maramasmushrooms@gmail.com
END:VEVENT
END:VCALENDAR