BEGIN:VCALENDAR
VERSION:2.0
PRODID:-//Let&#039;s Learn - ECPv6.15.14//NONSGML v1.0//EN
CALSCALE:GREGORIAN
METHOD:PUBLISH
X-WR-CALNAME:Let&#039;s Learn
X-ORIGINAL-URL:https://letslearn.nz
X-WR-CALDESC:Events for Let&#039;s Learn
REFRESH-INTERVAL;VALUE=DURATION:PT1H
X-Robots-Tag:noindex
X-PUBLISHED-TTL:PT1H
BEGIN:VTIMEZONE
TZID:Pacific/Auckland
BEGIN:STANDARD
TZOFFSETFROM:+1300
TZOFFSETTO:+1200
TZNAME:NZST
DTSTART:20210403T140000
END:STANDARD
BEGIN:DAYLIGHT
TZOFFSETFROM:+1200
TZOFFSETTO:+1300
TZNAME:NZDT
DTSTART:20210925T140000
END:DAYLIGHT
BEGIN:STANDARD
TZOFFSETFROM:+1300
TZOFFSETTO:+1200
TZNAME:NZST
DTSTART:20220402T140000
END:STANDARD
BEGIN:DAYLIGHT
TZOFFSETFROM:+1200
TZOFFSETTO:+1300
TZNAME:NZDT
DTSTART:20220924T140000
END:DAYLIGHT
BEGIN:STANDARD
TZOFFSETFROM:+1300
TZOFFSETTO:+1200
TZNAME:NZST
DTSTART:20230401T140000
END:STANDARD
BEGIN:DAYLIGHT
TZOFFSETFROM:+1200
TZOFFSETTO:+1300
TZNAME:NZDT
DTSTART:20230923T140000
END:DAYLIGHT
END:VTIMEZONE
BEGIN:VEVENT
DTSTART;TZID=Pacific/Auckland:20220616T190000
DTEND;TZID=Pacific/Auckland:20220616T213000
DTSTAMP:20260422T193702
CREATED:20220113T041348Z
LAST-MODIFIED:20220113T041348Z
UID:10005072-1655406000-1655415000@letslearn.nz
SUMMARY:Beginner Bridge Lessons Mt Maunganui
DESCRIPTION:Come on your own\, or bring a friend\, relative\, neighbour or workmate. Lots of helpers. An amazing setup for you to progress at your own speed! \nWhen: 2022 sessions starting on Thursday March 10th 7.00pm – 9.30 pm then weekly for 14 weeks. \nCost: $70 includes lessons\, handouts\, a book\, tea or coffee\, membership till the end of 2022 and access to lessons and play at Tauranga Bridge Club\, who will run lessons on Tuesday evenings of the same week. \nPlace: Mount Maunganui Bridge Club\, 60 Golf Road\, Mount Maunganui \nFor more information: \nTutor: Isobel McIntyre\nPhone: 021 112 7275\nEmail: issydmc@gmail.com\nClub Website: www.mount-maunganui.bridge-club.org
URL:https://letslearn.nz/event/beginner-bridge-lessons-mt-maunganui/2022-06-16/
LOCATION:Mount Maunganui Bridge Club\, 60 Golf Road\, Mount Maunganui
CATEGORIES:Bridge
ATTACH;FMTTYPE=image/jpeg:https://letslearn.nz/wp-content/uploads/2017/12/Clubs-Bridge-Mount-e1514361634430.jpg
ORGANIZER;CN="Mount Bridge Club":MAILTO:bbirss@hotmail.com
END:VEVENT
BEGIN:VEVENT
DTSTART;TZID=Pacific/Auckland:20220609T190000
DTEND;TZID=Pacific/Auckland:20220609T213000
DTSTAMP:20260422T193702
CREATED:20220113T041348Z
LAST-MODIFIED:20220113T041348Z
UID:10005071-1654801200-1654810200@letslearn.nz
SUMMARY:Beginner Bridge Lessons Mt Maunganui
DESCRIPTION:Come on your own\, or bring a friend\, relative\, neighbour or workmate. Lots of helpers. An amazing setup for you to progress at your own speed! \nWhen: 2022 sessions starting on Thursday March 10th 7.00pm – 9.30 pm then weekly for 14 weeks. \nCost: $70 includes lessons\, handouts\, a book\, tea or coffee\, membership till the end of 2022 and access to lessons and play at Tauranga Bridge Club\, who will run lessons on Tuesday evenings of the same week. \nPlace: Mount Maunganui Bridge Club\, 60 Golf Road\, Mount Maunganui \nFor more information: \nTutor: Isobel McIntyre\nPhone: 021 112 7275\nEmail: issydmc@gmail.com\nClub Website: www.mount-maunganui.bridge-club.org
URL:https://letslearn.nz/event/beginner-bridge-lessons-mt-maunganui/2022-06-09/
LOCATION:Mount Maunganui Bridge Club\, 60 Golf Road\, Mount Maunganui
CATEGORIES:Bridge
ATTACH;FMTTYPE=image/jpeg:https://letslearn.nz/wp-content/uploads/2017/12/Clubs-Bridge-Mount-e1514361634430.jpg
ORGANIZER;CN="Mount Bridge Club":MAILTO:bbirss@hotmail.com
END:VEVENT
BEGIN:VEVENT
DTSTART;TZID=Pacific/Auckland:20220602T190000
DTEND;TZID=Pacific/Auckland:20220602T213000
DTSTAMP:20260422T193702
CREATED:20220113T041348Z
LAST-MODIFIED:20220113T041348Z
UID:10005070-1654196400-1654205400@letslearn.nz
SUMMARY:Beginner Bridge Lessons Mt Maunganui
DESCRIPTION:Come on your own\, or bring a friend\, relative\, neighbour or workmate. Lots of helpers. An amazing setup for you to progress at your own speed! \nWhen: 2022 sessions starting on Thursday March 10th 7.00pm – 9.30 pm then weekly for 14 weeks. \nCost: $70 includes lessons\, handouts\, a book\, tea or coffee\, membership till the end of 2022 and access to lessons and play at Tauranga Bridge Club\, who will run lessons on Tuesday evenings of the same week. \nPlace: Mount Maunganui Bridge Club\, 60 Golf Road\, Mount Maunganui \nFor more information: \nTutor: Isobel McIntyre\nPhone: 021 112 7275\nEmail: issydmc@gmail.com\nClub Website: www.mount-maunganui.bridge-club.org
URL:https://letslearn.nz/event/beginner-bridge-lessons-mt-maunganui/2022-06-02/
LOCATION:Mount Maunganui Bridge Club\, 60 Golf Road\, Mount Maunganui
CATEGORIES:Bridge
ATTACH;FMTTYPE=image/jpeg:https://letslearn.nz/wp-content/uploads/2017/12/Clubs-Bridge-Mount-e1514361634430.jpg
ORGANIZER;CN="Mount Bridge Club":MAILTO:bbirss@hotmail.com
END:VEVENT
BEGIN:VEVENT
DTSTART;TZID=Pacific/Auckland:20220526T190000
DTEND;TZID=Pacific/Auckland:20220526T213000
DTSTAMP:20260422T193702
CREATED:20220113T041348Z
LAST-MODIFIED:20220113T041348Z
UID:10005069-1653591600-1653600600@letslearn.nz
SUMMARY:Beginner Bridge Lessons Mt Maunganui
DESCRIPTION:Come on your own\, or bring a friend\, relative\, neighbour or workmate. Lots of helpers. An amazing setup for you to progress at your own speed! \nWhen: 2022 sessions starting on Thursday March 10th 7.00pm – 9.30 pm then weekly for 14 weeks. \nCost: $70 includes lessons\, handouts\, a book\, tea or coffee\, membership till the end of 2022 and access to lessons and play at Tauranga Bridge Club\, who will run lessons on Tuesday evenings of the same week. \nPlace: Mount Maunganui Bridge Club\, 60 Golf Road\, Mount Maunganui \nFor more information: \nTutor: Isobel McIntyre\nPhone: 021 112 7275\nEmail: issydmc@gmail.com\nClub Website: www.mount-maunganui.bridge-club.org
URL:https://letslearn.nz/event/beginner-bridge-lessons-mt-maunganui/2022-05-26/
LOCATION:Mount Maunganui Bridge Club\, 60 Golf Road\, Mount Maunganui
CATEGORIES:Bridge
ATTACH;FMTTYPE=image/jpeg:https://letslearn.nz/wp-content/uploads/2017/12/Clubs-Bridge-Mount-e1514361634430.jpg
ORGANIZER;CN="Mount Bridge Club":MAILTO:bbirss@hotmail.com
END:VEVENT
BEGIN:VEVENT
DTSTART;TZID=Pacific/Auckland:20220519T190000
DTEND;TZID=Pacific/Auckland:20220519T213000
DTSTAMP:20260422T193702
CREATED:20220113T041348Z
LAST-MODIFIED:20220113T041348Z
UID:10005068-1652986800-1652995800@letslearn.nz
SUMMARY:Beginner Bridge Lessons Mt Maunganui
DESCRIPTION:Come on your own\, or bring a friend\, relative\, neighbour or workmate. Lots of helpers. An amazing setup for you to progress at your own speed! \nWhen: 2022 sessions starting on Thursday March 10th 7.00pm – 9.30 pm then weekly for 14 weeks. \nCost: $70 includes lessons\, handouts\, a book\, tea or coffee\, membership till the end of 2022 and access to lessons and play at Tauranga Bridge Club\, who will run lessons on Tuesday evenings of the same week. \nPlace: Mount Maunganui Bridge Club\, 60 Golf Road\, Mount Maunganui \nFor more information: \nTutor: Isobel McIntyre\nPhone: 021 112 7275\nEmail: issydmc@gmail.com\nClub Website: www.mount-maunganui.bridge-club.org
URL:https://letslearn.nz/event/beginner-bridge-lessons-mt-maunganui/2022-05-19/
LOCATION:Mount Maunganui Bridge Club\, 60 Golf Road\, Mount Maunganui
CATEGORIES:Bridge
ATTACH;FMTTYPE=image/jpeg:https://letslearn.nz/wp-content/uploads/2017/12/Clubs-Bridge-Mount-e1514361634430.jpg
ORGANIZER;CN="Mount Bridge Club":MAILTO:bbirss@hotmail.com
END:VEVENT
BEGIN:VEVENT
DTSTART;TZID=Pacific/Auckland:20220512T190000
DTEND;TZID=Pacific/Auckland:20220512T213000
DTSTAMP:20260422T193702
CREATED:20220113T041348Z
LAST-MODIFIED:20220113T041348Z
UID:10005067-1652382000-1652391000@letslearn.nz
SUMMARY:Beginner Bridge Lessons Mt Maunganui
DESCRIPTION:Come on your own\, or bring a friend\, relative\, neighbour or workmate. Lots of helpers. An amazing setup for you to progress at your own speed! \nWhen: 2022 sessions starting on Thursday March 10th 7.00pm – 9.30 pm then weekly for 14 weeks. \nCost: $70 includes lessons\, handouts\, a book\, tea or coffee\, membership till the end of 2022 and access to lessons and play at Tauranga Bridge Club\, who will run lessons on Tuesday evenings of the same week. \nPlace: Mount Maunganui Bridge Club\, 60 Golf Road\, Mount Maunganui \nFor more information: \nTutor: Isobel McIntyre\nPhone: 021 112 7275\nEmail: issydmc@gmail.com\nClub Website: www.mount-maunganui.bridge-club.org
URL:https://letslearn.nz/event/beginner-bridge-lessons-mt-maunganui/2022-05-12/
LOCATION:Mount Maunganui Bridge Club\, 60 Golf Road\, Mount Maunganui
CATEGORIES:Bridge
ATTACH;FMTTYPE=image/jpeg:https://letslearn.nz/wp-content/uploads/2017/12/Clubs-Bridge-Mount-e1514361634430.jpg
ORGANIZER;CN="Mount Bridge Club":MAILTO:bbirss@hotmail.com
END:VEVENT
BEGIN:VEVENT
DTSTART;TZID=Pacific/Auckland:20220505T190000
DTEND;TZID=Pacific/Auckland:20220505T213000
DTSTAMP:20260422T193702
CREATED:20220113T041348Z
LAST-MODIFIED:20220113T041348Z
UID:10005066-1651777200-1651786200@letslearn.nz
SUMMARY:Beginner Bridge Lessons Mt Maunganui
DESCRIPTION:Come on your own\, or bring a friend\, relative\, neighbour or workmate. Lots of helpers. An amazing setup for you to progress at your own speed! \nWhen: 2022 sessions starting on Thursday March 10th 7.00pm – 9.30 pm then weekly for 14 weeks. \nCost: $70 includes lessons\, handouts\, a book\, tea or coffee\, membership till the end of 2022 and access to lessons and play at Tauranga Bridge Club\, who will run lessons on Tuesday evenings of the same week. \nPlace: Mount Maunganui Bridge Club\, 60 Golf Road\, Mount Maunganui \nFor more information: \nTutor: Isobel McIntyre\nPhone: 021 112 7275\nEmail: issydmc@gmail.com\nClub Website: www.mount-maunganui.bridge-club.org
URL:https://letslearn.nz/event/beginner-bridge-lessons-mt-maunganui/2022-05-05/
LOCATION:Mount Maunganui Bridge Club\, 60 Golf Road\, Mount Maunganui
CATEGORIES:Bridge
ATTACH;FMTTYPE=image/jpeg:https://letslearn.nz/wp-content/uploads/2017/12/Clubs-Bridge-Mount-e1514361634430.jpg
ORGANIZER;CN="Mount Bridge Club":MAILTO:bbirss@hotmail.com
END:VEVENT
BEGIN:VEVENT
DTSTART;TZID=Pacific/Auckland:20220428T190000
DTEND;TZID=Pacific/Auckland:20220428T213000
DTSTAMP:20260422T193702
CREATED:20220113T041348Z
LAST-MODIFIED:20220113T041348Z
UID:10005065-1651172400-1651181400@letslearn.nz
SUMMARY:Beginner Bridge Lessons Mt Maunganui
DESCRIPTION:Come on your own\, or bring a friend\, relative\, neighbour or workmate. Lots of helpers. An amazing setup for you to progress at your own speed! \nWhen: 2022 sessions starting on Thursday March 10th 7.00pm – 9.30 pm then weekly for 14 weeks. \nCost: $70 includes lessons\, handouts\, a book\, tea or coffee\, membership till the end of 2022 and access to lessons and play at Tauranga Bridge Club\, who will run lessons on Tuesday evenings of the same week. \nPlace: Mount Maunganui Bridge Club\, 60 Golf Road\, Mount Maunganui \nFor more information: \nTutor: Isobel McIntyre\nPhone: 021 112 7275\nEmail: issydmc@gmail.com\nClub Website: www.mount-maunganui.bridge-club.org
URL:https://letslearn.nz/event/beginner-bridge-lessons-mt-maunganui/2022-04-28/
LOCATION:Mount Maunganui Bridge Club\, 60 Golf Road\, Mount Maunganui
CATEGORIES:Bridge
ATTACH;FMTTYPE=image/jpeg:https://letslearn.nz/wp-content/uploads/2017/12/Clubs-Bridge-Mount-e1514361634430.jpg
ORGANIZER;CN="Mount Bridge Club":MAILTO:bbirss@hotmail.com
END:VEVENT
BEGIN:VEVENT
DTSTART;TZID=Pacific/Auckland:20220421T190000
DTEND;TZID=Pacific/Auckland:20220421T213000
DTSTAMP:20260422T193702
CREATED:20220113T041348Z
LAST-MODIFIED:20220113T041348Z
UID:10005064-1650567600-1650576600@letslearn.nz
SUMMARY:Beginner Bridge Lessons Mt Maunganui
DESCRIPTION:Come on your own\, or bring a friend\, relative\, neighbour or workmate. Lots of helpers. An amazing setup for you to progress at your own speed! \nWhen: 2022 sessions starting on Thursday March 10th 7.00pm – 9.30 pm then weekly for 14 weeks. \nCost: $70 includes lessons\, handouts\, a book\, tea or coffee\, membership till the end of 2022 and access to lessons and play at Tauranga Bridge Club\, who will run lessons on Tuesday evenings of the same week. \nPlace: Mount Maunganui Bridge Club\, 60 Golf Road\, Mount Maunganui \nFor more information: \nTutor: Isobel McIntyre\nPhone: 021 112 7275\nEmail: issydmc@gmail.com\nClub Website: www.mount-maunganui.bridge-club.org
URL:https://letslearn.nz/event/beginner-bridge-lessons-mt-maunganui/2022-04-21/
LOCATION:Mount Maunganui Bridge Club\, 60 Golf Road\, Mount Maunganui
CATEGORIES:Bridge
ATTACH;FMTTYPE=image/jpeg:https://letslearn.nz/wp-content/uploads/2017/12/Clubs-Bridge-Mount-e1514361634430.jpg
ORGANIZER;CN="Mount Bridge Club":MAILTO:bbirss@hotmail.com
END:VEVENT
BEGIN:VEVENT
DTSTART;TZID=Pacific/Auckland:20220414T190000
DTEND;TZID=Pacific/Auckland:20220414T213000
DTSTAMP:20260422T193702
CREATED:20220113T041348Z
LAST-MODIFIED:20220113T041348Z
UID:10005063-1649962800-1649971800@letslearn.nz
SUMMARY:Beginner Bridge Lessons Mt Maunganui
DESCRIPTION:Come on your own\, or bring a friend\, relative\, neighbour or workmate. Lots of helpers. An amazing setup for you to progress at your own speed! \nWhen: 2022 sessions starting on Thursday March 10th 7.00pm – 9.30 pm then weekly for 14 weeks. \nCost: $70 includes lessons\, handouts\, a book\, tea or coffee\, membership till the end of 2022 and access to lessons and play at Tauranga Bridge Club\, who will run lessons on Tuesday evenings of the same week. \nPlace: Mount Maunganui Bridge Club\, 60 Golf Road\, Mount Maunganui \nFor more information: \nTutor: Isobel McIntyre\nPhone: 021 112 7275\nEmail: issydmc@gmail.com\nClub Website: www.mount-maunganui.bridge-club.org
URL:https://letslearn.nz/event/beginner-bridge-lessons-mt-maunganui/2022-04-14/
LOCATION:Mount Maunganui Bridge Club\, 60 Golf Road\, Mount Maunganui
CATEGORIES:Bridge
ATTACH;FMTTYPE=image/jpeg:https://letslearn.nz/wp-content/uploads/2017/12/Clubs-Bridge-Mount-e1514361634430.jpg
ORGANIZER;CN="Mount Bridge Club":MAILTO:bbirss@hotmail.com
END:VEVENT
BEGIN:VEVENT
DTSTART;TZID=Pacific/Auckland:20220407T190000
DTEND;TZID=Pacific/Auckland:20220407T213000
DTSTAMP:20260422T193702
CREATED:20220113T041348Z
LAST-MODIFIED:20220113T041348Z
UID:10005062-1649358000-1649367000@letslearn.nz
SUMMARY:Beginner Bridge Lessons Mt Maunganui
DESCRIPTION:Come on your own\, or bring a friend\, relative\, neighbour or workmate. Lots of helpers. An amazing setup for you to progress at your own speed! \nWhen: 2022 sessions starting on Thursday March 10th 7.00pm – 9.30 pm then weekly for 14 weeks. \nCost: $70 includes lessons\, handouts\, a book\, tea or coffee\, membership till the end of 2022 and access to lessons and play at Tauranga Bridge Club\, who will run lessons on Tuesday evenings of the same week. \nPlace: Mount Maunganui Bridge Club\, 60 Golf Road\, Mount Maunganui \nFor more information: \nTutor: Isobel McIntyre\nPhone: 021 112 7275\nEmail: issydmc@gmail.com\nClub Website: www.mount-maunganui.bridge-club.org
URL:https://letslearn.nz/event/beginner-bridge-lessons-mt-maunganui/2022-04-07/
LOCATION:Mount Maunganui Bridge Club\, 60 Golf Road\, Mount Maunganui
CATEGORIES:Bridge
ATTACH;FMTTYPE=image/jpeg:https://letslearn.nz/wp-content/uploads/2017/12/Clubs-Bridge-Mount-e1514361634430.jpg
ORGANIZER;CN="Mount Bridge Club":MAILTO:bbirss@hotmail.com
END:VEVENT
BEGIN:VEVENT
DTSTART;TZID=Pacific/Auckland:20220331T190000
DTEND;TZID=Pacific/Auckland:20220331T213000
DTSTAMP:20260422T193702
CREATED:20220113T041348Z
LAST-MODIFIED:20220113T041348Z
UID:10005061-1648753200-1648762200@letslearn.nz
SUMMARY:Beginner Bridge Lessons Mt Maunganui
DESCRIPTION:Come on your own\, or bring a friend\, relative\, neighbour or workmate. Lots of helpers. An amazing setup for you to progress at your own speed! \nWhen: 2022 sessions starting on Thursday March 10th 7.00pm – 9.30 pm then weekly for 14 weeks. \nCost: $70 includes lessons\, handouts\, a book\, tea or coffee\, membership till the end of 2022 and access to lessons and play at Tauranga Bridge Club\, who will run lessons on Tuesday evenings of the same week. \nPlace: Mount Maunganui Bridge Club\, 60 Golf Road\, Mount Maunganui \nFor more information: \nTutor: Isobel McIntyre\nPhone: 021 112 7275\nEmail: issydmc@gmail.com\nClub Website: www.mount-maunganui.bridge-club.org
URL:https://letslearn.nz/event/beginner-bridge-lessons-mt-maunganui/2022-03-31/
LOCATION:Mount Maunganui Bridge Club\, 60 Golf Road\, Mount Maunganui
CATEGORIES:Bridge
ATTACH;FMTTYPE=image/jpeg:https://letslearn.nz/wp-content/uploads/2017/12/Clubs-Bridge-Mount-e1514361634430.jpg
ORGANIZER;CN="Mount Bridge Club":MAILTO:bbirss@hotmail.com
END:VEVENT
BEGIN:VEVENT
DTSTART;TZID=Pacific/Auckland:20220324T190000
DTEND;TZID=Pacific/Auckland:20220324T213000
DTSTAMP:20260422T193702
CREATED:20220113T041348Z
LAST-MODIFIED:20220113T041348Z
UID:10005060-1648148400-1648157400@letslearn.nz
SUMMARY:Beginner Bridge Lessons Mt Maunganui
DESCRIPTION:Come on your own\, or bring a friend\, relative\, neighbour or workmate. Lots of helpers. An amazing setup for you to progress at your own speed! \nWhen: 2022 sessions starting on Thursday March 10th 7.00pm – 9.30 pm then weekly for 14 weeks. \nCost: $70 includes lessons\, handouts\, a book\, tea or coffee\, membership till the end of 2022 and access to lessons and play at Tauranga Bridge Club\, who will run lessons on Tuesday evenings of the same week. \nPlace: Mount Maunganui Bridge Club\, 60 Golf Road\, Mount Maunganui \nFor more information: \nTutor: Isobel McIntyre\nPhone: 021 112 7275\nEmail: issydmc@gmail.com\nClub Website: www.mount-maunganui.bridge-club.org
URL:https://letslearn.nz/event/beginner-bridge-lessons-mt-maunganui/2022-03-24/
LOCATION:Mount Maunganui Bridge Club\, 60 Golf Road\, Mount Maunganui
CATEGORIES:Bridge
ATTACH;FMTTYPE=image/jpeg:https://letslearn.nz/wp-content/uploads/2017/12/Clubs-Bridge-Mount-e1514361634430.jpg
ORGANIZER;CN="Mount Bridge Club":MAILTO:bbirss@hotmail.com
END:VEVENT
BEGIN:VEVENT
DTSTART;TZID=Pacific/Auckland:20220317T190000
DTEND;TZID=Pacific/Auckland:20220317T213000
DTSTAMP:20260422T193702
CREATED:20220113T041348Z
LAST-MODIFIED:20220113T041348Z
UID:10005059-1647543600-1647552600@letslearn.nz
SUMMARY:Beginner Bridge Lessons Mt Maunganui
DESCRIPTION:Come on your own\, or bring a friend\, relative\, neighbour or workmate. Lots of helpers. An amazing setup for you to progress at your own speed! \nWhen: 2022 sessions starting on Thursday March 10th 7.00pm – 9.30 pm then weekly for 14 weeks. \nCost: $70 includes lessons\, handouts\, a book\, tea or coffee\, membership till the end of 2022 and access to lessons and play at Tauranga Bridge Club\, who will run lessons on Tuesday evenings of the same week. \nPlace: Mount Maunganui Bridge Club\, 60 Golf Road\, Mount Maunganui \nFor more information: \nTutor: Isobel McIntyre\nPhone: 021 112 7275\nEmail: issydmc@gmail.com\nClub Website: www.mount-maunganui.bridge-club.org
URL:https://letslearn.nz/event/beginner-bridge-lessons-mt-maunganui/2022-03-17/
LOCATION:Mount Maunganui Bridge Club\, 60 Golf Road\, Mount Maunganui
CATEGORIES:Bridge
ATTACH;FMTTYPE=image/jpeg:https://letslearn.nz/wp-content/uploads/2017/12/Clubs-Bridge-Mount-e1514361634430.jpg
ORGANIZER;CN="Mount Bridge Club":MAILTO:bbirss@hotmail.com
END:VEVENT
BEGIN:VEVENT
DTSTART;TZID=Pacific/Auckland:20220310T190000
DTEND;TZID=Pacific/Auckland:20220310T213000
DTSTAMP:20260422T193702
CREATED:20220113T041348Z
LAST-MODIFIED:20220113T041348Z
UID:10005058-1646938800-1646947800@letslearn.nz
SUMMARY:Beginner Bridge Lessons Mt Maunganui
DESCRIPTION:Come on your own\, or bring a friend\, relative\, neighbour or workmate. Lots of helpers. An amazing setup for you to progress at your own speed! \nWhen: 2022 sessions starting on Thursday March 10th 7.00pm – 9.30 pm then weekly for 14 weeks. \nCost: $70 includes lessons\, handouts\, a book\, tea or coffee\, membership till the end of 2022 and access to lessons and play at Tauranga Bridge Club\, who will run lessons on Tuesday evenings of the same week. \nPlace: Mount Maunganui Bridge Club\, 60 Golf Road\, Mount Maunganui \nFor more information: \nTutor: Isobel McIntyre\nPhone: 021 112 7275\nEmail: issydmc@gmail.com\nClub Website: www.mount-maunganui.bridge-club.org
URL:https://letslearn.nz/event/beginner-bridge-lessons-mt-maunganui/2022-03-10/
LOCATION:Mount Maunganui Bridge Club\, 60 Golf Road\, Mount Maunganui
CATEGORIES:Bridge
ATTACH;FMTTYPE=image/jpeg:https://letslearn.nz/wp-content/uploads/2017/12/Clubs-Bridge-Mount-e1514361634430.jpg
ORGANIZER;CN="Mount Bridge Club":MAILTO:bbirss@hotmail.com
END:VEVENT
END:VCALENDAR