BEGIN:VCALENDAR
VERSION:2.0
PRODID:-//Let&#039;s Learn - ECPv6.15.14//NONSGML v1.0//EN
CALSCALE:GREGORIAN
METHOD:PUBLISH
X-ORIGINAL-URL:https://letslearn.nz
X-WR-CALDESC:Events for Let&#039;s Learn
REFRESH-INTERVAL;VALUE=DURATION:PT1H
X-Robots-Tag:noindex
X-PUBLISHED-TTL:PT1H
BEGIN:VTIMEZONE
TZID:Pacific/Auckland
BEGIN:STANDARD
TZOFFSETFROM:+1300
TZOFFSETTO:+1200
TZNAME:NZST
DTSTART:20200404T140000
END:STANDARD
BEGIN:DAYLIGHT
TZOFFSETFROM:+1200
TZOFFSETTO:+1300
TZNAME:NZDT
DTSTART:20200926T140000
END:DAYLIGHT
BEGIN:STANDARD
TZOFFSETFROM:+1300
TZOFFSETTO:+1200
TZNAME:NZST
DTSTART:20210403T140000
END:STANDARD
BEGIN:DAYLIGHT
TZOFFSETFROM:+1200
TZOFFSETTO:+1300
TZNAME:NZDT
DTSTART:20210925T140000
END:DAYLIGHT
BEGIN:STANDARD
TZOFFSETFROM:+1300
TZOFFSETTO:+1200
TZNAME:NZST
DTSTART:20220402T140000
END:STANDARD
BEGIN:DAYLIGHT
TZOFFSETFROM:+1200
TZOFFSETTO:+1300
TZNAME:NZDT
DTSTART:20220924T140000
END:DAYLIGHT
BEGIN:STANDARD
TZOFFSETFROM:+1300
TZOFFSETTO:+1200
TZNAME:NZST
DTSTART:20230401T140000
END:STANDARD
BEGIN:DAYLIGHT
TZOFFSETFROM:+1200
TZOFFSETTO:+1300
TZNAME:NZDT
DTSTART:20230923T140000
END:DAYLIGHT
BEGIN:STANDARD
TZOFFSETFROM:+1300
TZOFFSETTO:+1200
TZNAME:NZST
DTSTART:20240406T140000
END:STANDARD
BEGIN:DAYLIGHT
TZOFFSETFROM:+1200
TZOFFSETTO:+1300
TZNAME:NZDT
DTSTART:20240928T140000
END:DAYLIGHT
END:VTIMEZONE
BEGIN:VEVENT
DTSTART;TZID=Pacific/Auckland:20231109T093000
DTEND;TZID=Pacific/Auckland:20231109T123000
DTSTAMP:20260420T134317
CREATED:20230913T001622Z
LAST-MODIFIED:20230913T013156Z
UID:10011071-1699522200-1699533000@letslearn.nz
SUMMARY:Omokoroa Drawing & Painting Classes with Damien Kurth
DESCRIPTION:Damien Kurth is an exhibiting artist with 25 years of tutoring experience.   In October- November\, he is offering Drawing/Painting Classes in Omokoroa. \nDates: There are 3\n* Thursday Oct 19th\n* Thursday Nov 2nd\n* Thursday Nov 9th\nTime: 9.30 to  12.30\nWhere: Omokoroa Settlers Hall\nCost:  $85 per class ( all materials supplied) \nFor bookings and enquiries contact: \nbopatelierpainting@gmail.com \nor bopatelierpainting.wixsite.com/mysite
URL:https://letslearn.nz/event/drawing-painting-classes-with-damien-kurth/2023-11-09/
LOCATION:Ōmokoroa Settlers Hall\,  334 Ōmokoroa Rd\, Ōmokoroa
CATEGORIES:Drawing,Painting
ATTACH;FMTTYPE=image/jpeg:https://letslearn.nz/wp-content/uploads/2023/09/Art-Damien-Kurth-Omok.jpg
ORGANIZER;CN="Damien Kurth":MAILTO:bopatelierpainting@gmail.com
END:VEVENT
BEGIN:VEVENT
DTSTART;TZID=Pacific/Auckland:20231102T093000
DTEND;TZID=Pacific/Auckland:20231102T123000
DTSTAMP:20260420T134317
CREATED:20230913T001622Z
LAST-MODIFIED:20230913T013156Z
UID:10011070-1698917400-1698928200@letslearn.nz
SUMMARY:Omokoroa Drawing & Painting Classes with Damien Kurth
DESCRIPTION:Damien Kurth is an exhibiting artist with 25 years of tutoring experience.   In October- November\, he is offering Drawing/Painting Classes in Omokoroa. \nDates: There are 3\n* Thursday Oct 19th\n* Thursday Nov 2nd\n* Thursday Nov 9th\nTime: 9.30 to  12.30\nWhere: Omokoroa Settlers Hall\nCost:  $85 per class ( all materials supplied) \nFor bookings and enquiries contact: \nbopatelierpainting@gmail.com \nor bopatelierpainting.wixsite.com/mysite
URL:https://letslearn.nz/event/drawing-painting-classes-with-damien-kurth/2023-11-02/
LOCATION:Ōmokoroa Settlers Hall\,  334 Ōmokoroa Rd\, Ōmokoroa
CATEGORIES:Drawing,Painting
ATTACH;FMTTYPE=image/jpeg:https://letslearn.nz/wp-content/uploads/2023/09/Art-Damien-Kurth-Omok.jpg
ORGANIZER;CN="Damien Kurth":MAILTO:bopatelierpainting@gmail.com
END:VEVENT
BEGIN:VEVENT
DTSTART;TZID=Pacific/Auckland:20231019T093000
DTEND;TZID=Pacific/Auckland:20231019T123000
DTSTAMP:20260420T134317
CREATED:20230913T001622Z
LAST-MODIFIED:20230913T013156Z
UID:10011069-1697707800-1697718600@letslearn.nz
SUMMARY:Omokoroa Drawing & Painting Classes with Damien Kurth
DESCRIPTION:Damien Kurth is an exhibiting artist with 25 years of tutoring experience.   In October- November\, he is offering Drawing/Painting Classes in Omokoroa. \nDates: There are 3\n* Thursday Oct 19th\n* Thursday Nov 2nd\n* Thursday Nov 9th\nTime: 9.30 to  12.30\nWhere: Omokoroa Settlers Hall\nCost:  $85 per class ( all materials supplied) \nFor bookings and enquiries contact: \nbopatelierpainting@gmail.com \nor bopatelierpainting.wixsite.com/mysite
URL:https://letslearn.nz/event/drawing-painting-classes-with-damien-kurth/2023-10-19/
LOCATION:Ōmokoroa Settlers Hall\,  334 Ōmokoroa Rd\, Ōmokoroa
CATEGORIES:Drawing,Painting
ATTACH;FMTTYPE=image/jpeg:https://letslearn.nz/wp-content/uploads/2023/09/Art-Damien-Kurth-Omok.jpg
ORGANIZER;CN="Damien Kurth":MAILTO:bopatelierpainting@gmail.com
END:VEVENT
BEGIN:VEVENT
DTSTART;TZID=Pacific/Auckland:20210729T163000
DTEND;TZID=Pacific/Auckland:20210729T183000
DTSTAMP:20260420T134317
CREATED:20210721T035341Z
LAST-MODIFIED:20210721T035341Z
UID:10003826-1627576200-1627583400@letslearn.nz
SUMMARY:Ōmokoroa Peninsula Projects - Information Evening
DESCRIPTION:Join us to find out more about what’s happening in the Ōmokoroa neighbourhood.\nThis drop-in information session is your opportunity to meet with Council during the course of the Ōmokoroa Peninsula developments\, find out more about the projects\, and ask any questions you may have about specific projects.\nThere will be no presentation\, rather informal chats with staff\, so feel free to turn up at any time.\nBy 2060\, the Ōmokoroa peninsula will be fully developed and home to an estimated 12\,000 residents. To cater for this significant growth and the need for continuing improvements to the peninsula’s infrastructure\, Council is undertaking a series of projects – roading\, recreation\, cycleways\, stormwater\, building and planning – between now and 2022.\nIf you can’t make this event\, and would like to know about the Ōmokoroa Peninsula developments\, visit: http://www.westernbay.govt.nz/…/omokoroa-peninsula…
URL:https://letslearn.nz/event/omokoroa-peninsula-projects-information-evening/
LOCATION:Ōmokoroa Settlers Hall\,  334 Ōmokoroa Rd\, Ōmokoroa
CATEGORIES:Community Groups,Free
ATTACH;FMTTYPE=image/jpeg:https://letslearn.nz/wp-content/uploads/2021/07/Commun-Omokoroa-projects.jpg
ORGANIZER;CN="Western Bay Council":MAILTO:Customer.Service@westernbay.govt.nz
END:VEVENT
END:VCALENDAR