BEGIN:VCALENDAR
VERSION:2.0
PRODID:-//Let&#039;s Learn - ECPv6.15.14//NONSGML v1.0//EN
CALSCALE:GREGORIAN
METHOD:PUBLISH
X-WR-CALNAME:Let&#039;s Learn
X-ORIGINAL-URL:https://letslearn.nz
X-WR-CALDESC:Events for Let&#039;s Learn
REFRESH-INTERVAL;VALUE=DURATION:PT1H
X-Robots-Tag:noindex
X-PUBLISHED-TTL:PT1H
BEGIN:VTIMEZONE
TZID:Pacific/Auckland
BEGIN:STANDARD
TZOFFSETFROM:+1300
TZOFFSETTO:+1200
TZNAME:NZST
DTSTART:20190406T140000
END:STANDARD
BEGIN:DAYLIGHT
TZOFFSETFROM:+1200
TZOFFSETTO:+1300
TZNAME:NZDT
DTSTART:20190928T140000
END:DAYLIGHT
BEGIN:STANDARD
TZOFFSETFROM:+1300
TZOFFSETTO:+1200
TZNAME:NZST
DTSTART:20200404T140000
END:STANDARD
BEGIN:DAYLIGHT
TZOFFSETFROM:+1200
TZOFFSETTO:+1300
TZNAME:NZDT
DTSTART:20200926T140000
END:DAYLIGHT
BEGIN:STANDARD
TZOFFSETFROM:+1300
TZOFFSETTO:+1200
TZNAME:NZST
DTSTART:20210403T140000
END:STANDARD
BEGIN:DAYLIGHT
TZOFFSETFROM:+1200
TZOFFSETTO:+1300
TZNAME:NZDT
DTSTART:20210925T140000
END:DAYLIGHT
END:VTIMEZONE
BEGIN:VEVENT
DTSTART;TZID=Pacific/Auckland:20200708T173000
DTEND;TZID=Pacific/Auckland:20200708T193000
DTSTAMP:20260420T174903
CREATED:20200702T160501Z
LAST-MODIFIED:20200702T203337Z
UID:10004378-1594229400-1594236600@letslearn.nz
SUMMARY:Public Speaking Skills Course
DESCRIPTION:You CAN thrive in competitive times.\nThis is no time for playing small.\nTake your ability to communicate to the next level. This is what I do best for business people just like you. Improve the way you:\n– Pitch your ideas\n– Communicate with others\n– Handle tricky situations\nWelcome an articulate\, confident and decisive version of YOU. \nRegister for our 4 week Tauranga course now.\nClass starting Wednesday July 8th at The Art Lounge NZ. \nThis course by Melanie Vezey from ‘Loud and Clear Communications’ is on Days: Wednesdays\, 8th\, 15th\, 22nd and 29th July\nTime: 5.30pm – 7.30pm \nCost: $350 per person
URL:https://letslearn.nz/event/public-speaking-skills-course/
LOCATION:The Art Lounge\, 117 Willow Street\, Tauranga
CATEGORIES:Personal Development,Professional Development,Storytelling
ATTACH;FMTTYPE=image/jpeg:https://letslearn.nz/wp-content/uploads/2020/07/Loud-Clear.jpg
ORGANIZER;CN="Loud and Clear Communications":MAILTO:melanie@loudandclear.co.nz
END:VEVENT
BEGIN:VEVENT
DTSTART;TZID=Pacific/Auckland:20200704T140000
DTEND;TZID=Pacific/Auckland:20200704T160000
DTSTAMP:20260420T174903
CREATED:20200702T155211Z
LAST-MODIFIED:20200703T233305Z
UID:10004376-1593871200-1593878400@letslearn.nz
SUMMARY:Finding Your Voice Workshop
DESCRIPTION:Join Melanie Vezey from ‘Loud and Clear Communications’ for a workshop to help you find your voice. \nThis workshop helps you access your ‘who am I’\, by helping to craft your message\, tell stories for impact and (if you wish) give public speaking a go\, before a very kind audience of your peers. \nAt The Art Lounge NZ this Saturday\, 4th July\, 2-4pm.  \nAll welcome\, gold coin donation.\n \nThis will be followed by 4-weeks Public Speaking Skills Course\, see details.
URL:https://letslearn.nz/event/finding-your-voice-workshop/
LOCATION:The Art Lounge\, 117 Willow Street\, Tauranga
CATEGORIES:Free,Personal Development,Professional Development,Storytelling
ATTACH;FMTTYPE=image/jpeg:https://letslearn.nz/wp-content/uploads/2020/07/Loud-Clear.jpg
ORGANIZER;CN="Loud and Clear Communications":MAILTO:melanie@loudandclear.co.nz
END:VEVENT
END:VCALENDAR