BEGIN:VCALENDAR
VERSION:2.0
PRODID:-//Let&#039;s Learn - ECPv6.15.14//NONSGML v1.0//EN
CALSCALE:GREGORIAN
METHOD:PUBLISH
X-ORIGINAL-URL:https://letslearn.nz
X-WR-CALDESC:Events for Let&#039;s Learn
REFRESH-INTERVAL;VALUE=DURATION:PT1H
X-Robots-Tag:noindex
X-PUBLISHED-TTL:PT1H
BEGIN:VTIMEZONE
TZID:Pacific/Auckland
BEGIN:STANDARD
TZOFFSETFROM:+1300
TZOFFSETTO:+1200
TZNAME:NZST
DTSTART:20190406T140000
END:STANDARD
BEGIN:DAYLIGHT
TZOFFSETFROM:+1200
TZOFFSETTO:+1300
TZNAME:NZDT
DTSTART:20190928T140000
END:DAYLIGHT
BEGIN:STANDARD
TZOFFSETFROM:+1300
TZOFFSETTO:+1200
TZNAME:NZST
DTSTART:20200404T140000
END:STANDARD
BEGIN:DAYLIGHT
TZOFFSETFROM:+1200
TZOFFSETTO:+1300
TZNAME:NZDT
DTSTART:20200926T140000
END:DAYLIGHT
BEGIN:STANDARD
TZOFFSETFROM:+1300
TZOFFSETTO:+1200
TZNAME:NZST
DTSTART:20210403T140000
END:STANDARD
BEGIN:DAYLIGHT
TZOFFSETFROM:+1200
TZOFFSETTO:+1300
TZNAME:NZDT
DTSTART:20210925T140000
END:DAYLIGHT
END:VTIMEZONE
BEGIN:VEVENT
DTSTART;TZID=Pacific/Auckland:20200311T190000
DTEND;TZID=Pacific/Auckland:20200311T210000
DTSTAMP:20260420T174908
CREATED:20200107T224517Z
LAST-MODIFIED:20200301T183910Z
UID:10004128-1583953200-1583960400@letslearn.nz
SUMMARY:Reducing Our Household Rubbish: The Zero Waste Approach
DESCRIPTION:– What is the zero waste movement? Why is waste reduction important? \n– How zero waste principles can revolutionise your perspectives on living and lifestyle\, beyond your rubbish bin. \n– Innovative examples of waste minimisation policy\, practice and thinking from around the globe\, and how these might inform community-level waste reduction. \n– Tips for how you can reduce the rubbish in your life (including fun DIY household products\, cosmetics\, and other life hacks). \nHannah and Liam will guide you through the whys and the hows of life without a rubbish bin. \nEnvirohub Bay of Plenty is pleased to host The Rubbish Trip’s popular presentation on zero waste living in Te Puke as part of Sustainable Backyards 2020.
URL:https://letslearn.nz/event/reducing-our-household-rubbish-the-zero-waste-approach/
LOCATION:The Orchard Church\, 20 MacLoughlin Drive\, Te Puke
CATEGORIES:Eco-Friendly,Talks
ATTACH;FMTTYPE=image/jpeg:https://letslearn.nz/wp-content/uploads/2020/01/Envirohub-2020-Sus-BY.jpg
ORGANIZER;CN="Environment BOP":MAILTO:projects@envirohub.org.nz
END:VEVENT
END:VCALENDAR