BEGIN:VCALENDAR
VERSION:2.0
PRODID:-//Let&#039;s Learn - ECPv6.15.14//NONSGML v1.0//EN
CALSCALE:GREGORIAN
METHOD:PUBLISH
X-ORIGINAL-URL:https://letslearn.nz
X-WR-CALDESC:Events for Let&#039;s Learn
REFRESH-INTERVAL;VALUE=DURATION:PT1H
X-Robots-Tag:noindex
X-PUBLISHED-TTL:PT1H
BEGIN:VTIMEZONE
TZID:Pacific/Auckland
BEGIN:STANDARD
TZOFFSETFROM:+1300
TZOFFSETTO:+1200
TZNAME:NZST
DTSTART:20180331T140000
END:STANDARD
BEGIN:DAYLIGHT
TZOFFSETFROM:+1200
TZOFFSETTO:+1300
TZNAME:NZDT
DTSTART:20180929T140000
END:DAYLIGHT
BEGIN:STANDARD
TZOFFSETFROM:+1300
TZOFFSETTO:+1200
TZNAME:NZST
DTSTART:20190406T140000
END:STANDARD
BEGIN:DAYLIGHT
TZOFFSETFROM:+1200
TZOFFSETTO:+1300
TZNAME:NZDT
DTSTART:20190928T140000
END:DAYLIGHT
BEGIN:STANDARD
TZOFFSETFROM:+1300
TZOFFSETTO:+1200
TZNAME:NZST
DTSTART:20200404T140000
END:STANDARD
BEGIN:DAYLIGHT
TZOFFSETFROM:+1200
TZOFFSETTO:+1300
TZNAME:NZDT
DTSTART:20200926T140000
END:DAYLIGHT
END:VTIMEZONE
BEGIN:VEVENT
DTSTART;TZID=Pacific/Auckland:20190924T171500
DTEND;TZID=Pacific/Auckland:20190924T180000
DTSTAMP:20260422T180323
CREATED:20190902T001206Z
LAST-MODIFIED:20190902T001207Z
UID:10003665-1569345300-1569348000@letslearn.nz
SUMMARY:Glass-sperience
DESCRIPTION:“Glass-sperience” is an entertaining and interesting “How It’s Made’  mini tour which showcases three of the many techniques that are used in a Kilnforming and Flameworking glass studio. \nYou will see a live demonstration of how a glass bead is made on a gas torch and how to pull a glass stringer;  touch and see rods\, powders\, stringers\, foil and other types of glass materials that are used in the making of glass art. Watch the process that is used to fuse and slump glass; and finally the procedure for making cast glass objects.  This is a Kilnforming studio and the techniques demonstrated are very different to those of glassblowing! \nConducted in a safe environment where you get to talk directly with Glassmaker Jo Tricker who has been working with glass for nine years\, and who loves to share her passion and knowledge of glass. \nPhone or email to register: 0274 621655  or jo@jotrickerglass.com
URL:https://letslearn.nz/event/glass-sperience-2/
LOCATION:Unit 5 Oak Lane\, Judea\, Tauranga
CATEGORIES:Crafts
ORGANIZER;CN="Jo Tricker":MAILTO:jo@jotrickerglass.com
END:VEVENT
END:VCALENDAR