BEGIN:VCALENDAR
VERSION:2.0
PRODID:-//Let&#039;s Learn - ECPv6.15.14//NONSGML v1.0//EN
CALSCALE:GREGORIAN
METHOD:PUBLISH
X-ORIGINAL-URL:https://letslearn.nz
X-WR-CALDESC:Events for Let&#039;s Learn
REFRESH-INTERVAL;VALUE=DURATION:PT1H
X-Robots-Tag:noindex
X-PUBLISHED-TTL:PT1H
BEGIN:VTIMEZONE
TZID:Pacific/Auckland
BEGIN:STANDARD
TZOFFSETFROM:+1300
TZOFFSETTO:+1200
TZNAME:NZST
DTSTART:20180331T140000
END:STANDARD
BEGIN:DAYLIGHT
TZOFFSETFROM:+1200
TZOFFSETTO:+1300
TZNAME:NZDT
DTSTART:20180929T140000
END:DAYLIGHT
BEGIN:STANDARD
TZOFFSETFROM:+1300
TZOFFSETTO:+1200
TZNAME:NZST
DTSTART:20190406T140000
END:STANDARD
BEGIN:DAYLIGHT
TZOFFSETFROM:+1200
TZOFFSETTO:+1300
TZNAME:NZDT
DTSTART:20190928T140000
END:DAYLIGHT
BEGIN:STANDARD
TZOFFSETFROM:+1300
TZOFFSETTO:+1200
TZNAME:NZST
DTSTART:20200404T140000
END:STANDARD
BEGIN:DAYLIGHT
TZOFFSETFROM:+1200
TZOFFSETTO:+1300
TZNAME:NZDT
DTSTART:20200926T140000
END:DAYLIGHT
END:VTIMEZONE
BEGIN:VEVENT
DTSTART;TZID=Pacific/Auckland:20191008T180000
DTEND;TZID=Pacific/Auckland:20191008T200000
DTSTAMP:20260419T031616
CREATED:20190928T223617Z
LAST-MODIFIED:20191203T172557Z
UID:10002982-1570557600-1570564800@letslearn.nz
SUMMARY:Running an Effective Meeting
DESCRIPTION:Do you want to have short\, constructive meetings where decisions are made and outcomes met? \nDo you want to encourage contributions from all trustees\, while managing potential disagreement  or conflict? \nYour board meetings are the one chance you have to get things sorted each month\, so it is vital they run smoothly\, on time and with actual action points. \nLearn how to make the most of your meetings\, so that your organisation continues to move forward. \nCheck with Exult for future workshops.
URL:https://letslearn.nz/event/running-an-effective-meeting/
LOCATION:Waipuna Park Pavillion\, Welcome Bay
CATEGORIES:Clubs,Community Groups
ORGANIZER;CN="Exult":MAILTO:rosie@exult.co.nz
END:VEVENT
END:VCALENDAR